BEGIN:VCALENDAR
VERSION:2.0
PRODID:-//San Joaquin Valley Stormwater Quality Partnership - ECPv6.15.20//NONSGML v1.0//EN
CALSCALE:GREGORIAN
METHOD:PUBLISH
X-ORIGINAL-URL:https://sjvswqp.org
X-WR-CALDESC:Events for San Joaquin Valley Stormwater Quality Partnership
REFRESH-INTERVAL;VALUE=DURATION:PT1H
X-Robots-Tag:noindex
X-PUBLISHED-TTL:PT1H
BEGIN:VTIMEZONE
TZID:America/Los_Angeles
BEGIN:DAYLIGHT
TZOFFSETFROM:-0800
TZOFFSETTO:-0700
TZNAME:PDT
DTSTART:20190310T100000
END:DAYLIGHT
BEGIN:STANDARD
TZOFFSETFROM:-0700
TZOFFSETTO:-0800
TZNAME:PST
DTSTART:20191103T090000
END:STANDARD
BEGIN:DAYLIGHT
TZOFFSETFROM:-0800
TZOFFSETTO:-0700
TZNAME:PDT
DTSTART:20200308T100000
END:DAYLIGHT
BEGIN:STANDARD
TZOFFSETFROM:-0700
TZOFFSETTO:-0800
TZNAME:PST
DTSTART:20201101T090000
END:STANDARD
BEGIN:DAYLIGHT
TZOFFSETFROM:-0800
TZOFFSETTO:-0700
TZNAME:PDT
DTSTART:20210314T100000
END:DAYLIGHT
BEGIN:STANDARD
TZOFFSETFROM:-0700
TZOFFSETTO:-0800
TZNAME:PST
DTSTART:20211107T090000
END:STANDARD
END:VTIMEZONE
BEGIN:VEVENT
DTSTART;TZID=America/Los_Angeles:20200325T090000
DTEND;TZID=America/Los_Angeles:20200325T110000
DTSTAMP:20260424T180419
CREATED:20240126T040248Z
LAST-MODIFIED:20240126T040248Z
UID:1831-1585126800-1585134000@sjvswqp.org
SUMMARY:CANCELED (SJVSWQP March 2020 Meeting - Lodi)
DESCRIPTION:When\n03/25/2020\n\n \n9:00 AM – 11:00 AM\n\nLocation\nCity of Lodi\n\n\nThis is the monthly San Joaquin Valley Stormwater Quality Partnership Meeting. Please confirm your attendance through registration.  \nMeeting minutes from previous month and the Agenda for this month may be found here:  https://sjvswqp.org/minutes\n \nConference Call Dial-in-Number: 857-232-0157 \nMeeting ID: 495872 \n \n– Date: Wed\,March 25\, 2020\n \n– Time: 9am – 11:00am \n– Location: City of Lodi – Surface Water Treatment Facility \n– Address: 2001 W. Turner Road\, Lodi\, CA \n \n*******Do Not Use GPS – Driveway is north of intersection at Turner and Mills Road.*******\n \nSee Google Map below for an accurate meeting location\n \n\nFor the April 24 meeting\,  we have been keeping the water plant gate closed to prevent illegal parking. \nIf the front gate is locked\, then please just go to the first smaller gate on the left (for deliveries) and hit the intercom button\, and you will be let in (see below). \nThen drive fully around the back side of the water plant and find parking in the front lot. \nThe address is 2001 W Turner Road\, corner of W Turner and N Mills Avenue.
URL:https://sjvswqp.org/event/canceled-sjvswqp-march-2020-meeting-lodi/
END:VEVENT
END:VCALENDAR