BEGIN:VCALENDAR
VERSION:2.0
PRODID:-//San Joaquin Valley Stormwater Quality Partnership - ECPv6.15.20//NONSGML v1.0//EN
CALSCALE:GREGORIAN
METHOD:PUBLISH
X-ORIGINAL-URL:https://sjvswqp.org
X-WR-CALDESC:Events for San Joaquin Valley Stormwater Quality Partnership
REFRESH-INTERVAL;VALUE=DURATION:PT1H
X-Robots-Tag:noindex
X-PUBLISHED-TTL:PT1H
BEGIN:VTIMEZONE
TZID:America/Los_Angeles
BEGIN:DAYLIGHT
TZOFFSETFROM:-0800
TZOFFSETTO:-0700
TZNAME:PDT
DTSTART:20190310T100000
END:DAYLIGHT
BEGIN:STANDARD
TZOFFSETFROM:-0700
TZOFFSETTO:-0800
TZNAME:PST
DTSTART:20191103T090000
END:STANDARD
BEGIN:DAYLIGHT
TZOFFSETFROM:-0800
TZOFFSETTO:-0700
TZNAME:PDT
DTSTART:20200308T100000
END:DAYLIGHT
BEGIN:STANDARD
TZOFFSETFROM:-0700
TZOFFSETTO:-0800
TZNAME:PST
DTSTART:20201101T090000
END:STANDARD
BEGIN:DAYLIGHT
TZOFFSETFROM:-0800
TZOFFSETTO:-0700
TZNAME:PDT
DTSTART:20210314T100000
END:DAYLIGHT
BEGIN:STANDARD
TZOFFSETFROM:-0700
TZOFFSETTO:-0800
TZNAME:PST
DTSTART:20211107T090000
END:STANDARD
END:VTIMEZONE
BEGIN:VEVENT
DTSTART;TZID=America/Los_Angeles:20200514T090000
DTEND;TZID=America/Los_Angeles:20200514T090000
DTSTAMP:20260424T144829
CREATED:20240126T034348Z
LAST-MODIFIED:20240126T034348Z
UID:1826-1589446800-1589446800@sjvswqp.org
SUMMARY:SJVSWQP Annual Regional Training | Webinar
DESCRIPTION:When\n05/14/2020\n\n \n9:00 AM – 3:00 PM\n\nLocation\nFree Webinar\n\n\nSJVSWQP Values the Safety and Health of all our Storm Water Partners and in response to COVID-19\, this year’s scheduled training is being offered via WebEx platform. \n \nSpeakers: \n\n Bret Smith-Compliance First / Welcome\n Paul Levy-SWRCB / Phase II MS4 Permit – Update\n Salvador Chaparro & Ella Golovey-SWRCB/ SB205 Effective 1/1/2020\n Paul Bedore-Robertson-Bryan\, Inc. / Pyrethroids – What’s Next?\n Richard Muhl-CVRWQCB / Trash and Water Quality Issues Related to Homelessness\n LUNCH BREAK\n Chris Sommers-EOA / Statewide Trash Policy and the Phase II NPDES Permit Reissuance\n Ian Padilla-CASH / Non-Traditional Permit Requirements—How To’s\n Kathy Grant-City Lodi / Watershed Outreach Program—Lodi Storm Drain Detectives\n Bret Smith-Compliance First / Closing Remarks
URL:https://sjvswqp.org/event/sjvswqp-annual-regional-training-webinar/
END:VEVENT
END:VCALENDAR