BEGIN:VCALENDAR
VERSION:2.0
PRODID:-//San Joaquin Valley Stormwater Quality Partnership - ECPv6.15.20//NONSGML v1.0//EN
CALSCALE:GREGORIAN
METHOD:PUBLISH
X-WR-CALNAME:San Joaquin Valley Stormwater Quality Partnership
X-ORIGINAL-URL:https://sjvswqp.org
X-WR-CALDESC:Events for San Joaquin Valley Stormwater Quality Partnership
REFRESH-INTERVAL;VALUE=DURATION:PT1H
X-Robots-Tag:noindex
X-PUBLISHED-TTL:PT1H
BEGIN:VTIMEZONE
TZID:America/Los_Angeles
BEGIN:DAYLIGHT
TZOFFSETFROM:-0800
TZOFFSETTO:-0700
TZNAME:PDT
DTSTART:20200308T100000
END:DAYLIGHT
BEGIN:STANDARD
TZOFFSETFROM:-0700
TZOFFSETTO:-0800
TZNAME:PST
DTSTART:20201101T090000
END:STANDARD
BEGIN:DAYLIGHT
TZOFFSETFROM:-0800
TZOFFSETTO:-0700
TZNAME:PDT
DTSTART:20210314T100000
END:DAYLIGHT
BEGIN:STANDARD
TZOFFSETFROM:-0700
TZOFFSETTO:-0800
TZNAME:PST
DTSTART:20211107T090000
END:STANDARD
BEGIN:DAYLIGHT
TZOFFSETFROM:-0800
TZOFFSETTO:-0700
TZNAME:PDT
DTSTART:20220313T100000
END:DAYLIGHT
BEGIN:STANDARD
TZOFFSETFROM:-0700
TZOFFSETTO:-0800
TZNAME:PST
DTSTART:20221106T090000
END:STANDARD
END:VTIMEZONE
BEGIN:VEVENT
DTSTART;TZID=America/Los_Angeles:20210520T090000
DTEND;TZID=America/Los_Angeles:20210520T090000
DTSTAMP:20260423T231022
CREATED:20240126T033219Z
LAST-MODIFIED:20240126T033219Z
UID:1809-1621501200-1621501200@sjvswqp.org
SUMMARY:SJVSWQP 2021 Regional Training | Virtual |
DESCRIPTION:VIRTUAL TRAINING\n(Thursday)\nMay 20\, 2021\n9:00 AM – 3:00 PM\nS\nMS4 / PHASE II\n2021 REGIONAL STORM WATER TRAINING\nSAN JOAQUIN VALLEY STORM WATER QUALITY PARTNERSHIP\nSPEAKERS / TOPICS\nPAUL LEVY /State Water Resources Control Board / Upcoming Permit\nBRET SMITH / Compliance First\, LLC / Construction General Permit\nKAREN COWAN/ CASQA / The Vision\nTOM MARTIN & HERNAN CORTEZ / Rick Engineering Co. /\nMulti-Benefits-Storm Water Projects\nCATHLEEN GARNAND / Santa Barbara County / Public Works-Good\nHousekeeping\nCALEB SMITH / City of Tracy / IDDE\nREGISTER ON LINE AT: WWW.SJVSWQP.ORG\nCOST: $60.00 EACH ATTENDEE\nPDU’S OFFERED FOR REGISTRATION AND FULL ATTENDANCE\nSPONSORED BY: MEMBERS OF THE SIVSWQP
URL:https://sjvswqp.org/event/sjvswqp-2021-regional-training-virtual/
END:VEVENT
END:VCALENDAR