BEGIN:VCALENDAR
VERSION:2.0
PRODID:-//San Joaquin Valley Stormwater Quality Partnership - ECPv6.15.20//NONSGML v1.0//EN
CALSCALE:GREGORIAN
METHOD:PUBLISH
X-WR-CALNAME:San Joaquin Valley Stormwater Quality Partnership
X-ORIGINAL-URL:https://sjvswqp.org
X-WR-CALDESC:Events for San Joaquin Valley Stormwater Quality Partnership
REFRESH-INTERVAL;VALUE=DURATION:PT1H
X-Robots-Tag:noindex
X-PUBLISHED-TTL:PT1H
BEGIN:VTIMEZONE
TZID:America/Los_Angeles
BEGIN:DAYLIGHT
TZOFFSETFROM:-0800
TZOFFSETTO:-0700
TZNAME:PDT
DTSTART:20200308T100000
END:DAYLIGHT
BEGIN:STANDARD
TZOFFSETFROM:-0700
TZOFFSETTO:-0800
TZNAME:PST
DTSTART:20201101T090000
END:STANDARD
BEGIN:DAYLIGHT
TZOFFSETFROM:-0800
TZOFFSETTO:-0700
TZNAME:PDT
DTSTART:20210314T100000
END:DAYLIGHT
BEGIN:STANDARD
TZOFFSETFROM:-0700
TZOFFSETTO:-0800
TZNAME:PST
DTSTART:20211107T090000
END:STANDARD
BEGIN:DAYLIGHT
TZOFFSETFROM:-0800
TZOFFSETTO:-0700
TZNAME:PDT
DTSTART:20220313T100000
END:DAYLIGHT
BEGIN:STANDARD
TZOFFSETFROM:-0700
TZOFFSETTO:-0800
TZNAME:PST
DTSTART:20221106T090000
END:STANDARD
BEGIN:DAYLIGHT
TZOFFSETFROM:-0800
TZOFFSETTO:-0700
TZNAME:PDT
DTSTART:20230312T100000
END:DAYLIGHT
BEGIN:STANDARD
TZOFFSETFROM:-0700
TZOFFSETTO:-0800
TZNAME:PST
DTSTART:20231105T090000
END:STANDARD
BEGIN:DAYLIGHT
TZOFFSETFROM:-0800
TZOFFSETTO:-0700
TZNAME:PDT
DTSTART:20240310T100000
END:DAYLIGHT
BEGIN:STANDARD
TZOFFSETFROM:-0700
TZOFFSETTO:-0800
TZNAME:PST
DTSTART:20241103T090000
END:STANDARD
BEGIN:DAYLIGHT
TZOFFSETFROM:-0800
TZOFFSETTO:-0700
TZNAME:PDT
DTSTART:20250309T100000
END:DAYLIGHT
BEGIN:STANDARD
TZOFFSETFROM:-0700
TZOFFSETTO:-0800
TZNAME:PST
DTSTART:20251102T090000
END:STANDARD
END:VTIMEZONE
BEGIN:VEVENT
DTSTART;TZID=America/Los_Angeles:20210825T090000
DTEND;TZID=America/Los_Angeles:20240126T100000
DTSTAMP:20260421T133122
CREATED:20240126T032707Z
LAST-MODIFIED:20240126T032707Z
UID:1803-1629882000-1706263200@sjvswqp.org
SUMMARY:SJVSWQP August 25\, 2021 Meeting - Teleconference
DESCRIPTION:When\n08/25/2021\n\n \n9:00 AM – 10:00 AM\n\nLocation\nTeleconference\n\n\nThis is the monthly San Joaquin Valley StormWater Quality Partnership Meeting. Please confirm your attendance through registration. \n\nA Zoom meeting information will be sent to the registered participants on Wednesday a.m. prior to the meeting.  
URL:https://sjvswqp.org/event/sjvswqp-august-25-2021-meeting-teleconference/
END:VEVENT
BEGIN:VEVENT
DTSTART;TZID=America/Los_Angeles:20230921T090000
DTEND;TZID=America/Los_Angeles:20230921T110000
DTSTAMP:20260421T133122
CREATED:20240124T062509Z
LAST-MODIFIED:20240124T062550Z
UID:993-1695286800-1695294000@sjvswqp.org
SUMMARY:SJVSWQP Meeting September 21\, 2023 - City of Turlock
DESCRIPTION:Monthly Meeting Hosted by City of Turlock \n\n\n– Date: Thur\, September 21st\, 2023\n– Time: 9:00am – 11:00am\n– Location: \nMicrosoft Teams \n\nMicrosoft Teams meeting \nJoin on your computer\, mobile app or room device \nClick here to join the meeting \nMeeting ID: 267 720 158 271  \n  \nPasscode: 83yXfm  \nDownload Teams | Join on the web \nOr call in (audio only) \n+1 209-425-4338\,\,238354008#   United States\, Stockton \nPhone Conference ID: 238 354 008#  \nFind a local number | Reset PIN \nLearn More | Meeting options
URL:https://sjvswqp.org/event/sjvswqp-meeting-september-21-2023-city-of-turlock/
END:VEVENT
BEGIN:VEVENT
DTSTART;TZID=America/Los_Angeles:20230921T090000
DTEND;TZID=America/Los_Angeles:20230921T110000
DTSTAMP:20260421T133122
CREATED:20240124T062713Z
LAST-MODIFIED:20240124T062713Z
UID:995-1695286800-1695294000@sjvswqp.org
SUMMARY:SJVSWQP Meeting August 16 2023 - City of Turlock
DESCRIPTION:CANCLED \nPostponed to September 21\, 2023 virtual 9:00 am – 10:00 am \nMonthly Meeting at City of Turlock \n\n\n– Date: Wed\, August 16th\, 2023\n– Time: 9:00am – 11:00am\n– Location: City of Turlock – City Hall – Yosemite Room \n– Address:\n156 S. Broadway \nTurlock\,CA\n \nNO Call-in available
URL:https://sjvswqp.org/event/sjvswqp-meeting-august-16-2023-city-of-turlock/
END:VEVENT
END:VCALENDAR