BEGIN:VCALENDAR
VERSION:2.0
PRODID:-//San Joaquin Valley Stormwater Quality Partnership - ECPv6.15.20//NONSGML v1.0//EN
CALSCALE:GREGORIAN
METHOD:PUBLISH
X-WR-CALNAME:San Joaquin Valley Stormwater Quality Partnership
X-ORIGINAL-URL:https://sjvswqp.org
X-WR-CALDESC:Events for San Joaquin Valley Stormwater Quality Partnership
REFRESH-INTERVAL;VALUE=DURATION:PT1H
X-Robots-Tag:noindex
X-PUBLISHED-TTL:PT1H
BEGIN:VTIMEZONE
TZID:America/Los_Angeles
BEGIN:DAYLIGHT
TZOFFSETFROM:-0800
TZOFFSETTO:-0700
TZNAME:PDT
DTSTART:20230312T100000
END:DAYLIGHT
BEGIN:STANDARD
TZOFFSETFROM:-0700
TZOFFSETTO:-0800
TZNAME:PST
DTSTART:20231105T090000
END:STANDARD
BEGIN:DAYLIGHT
TZOFFSETFROM:-0800
TZOFFSETTO:-0700
TZNAME:PDT
DTSTART:20240310T100000
END:DAYLIGHT
BEGIN:STANDARD
TZOFFSETFROM:-0700
TZOFFSETTO:-0800
TZNAME:PST
DTSTART:20241103T090000
END:STANDARD
BEGIN:DAYLIGHT
TZOFFSETFROM:-0800
TZOFFSETTO:-0700
TZNAME:PDT
DTSTART:20250309T100000
END:DAYLIGHT
BEGIN:STANDARD
TZOFFSETFROM:-0700
TZOFFSETTO:-0800
TZNAME:PST
DTSTART:20251102T090000
END:STANDARD
END:VTIMEZONE
BEGIN:VEVENT
DTSTART;TZID=America/Los_Angeles:20240620T090000
DTEND;TZID=America/Los_Angeles:20240620T100000
DTSTAMP:20260418T035511
CREATED:20240506T131310Z
LAST-MODIFIED:20240618T175546Z
UID:2415-1718874000-1718877600@sjvswqp.org
SUMMARY:San Joaquin Valley Stormwater Quality Partnership – June Meeting
DESCRIPTION:SJVSWQP Meeting Agenda June 2024 \nThe June monthly meeting will be held virtually via Zoom. Meeting invite will be emailed to the group the week of the event. \n 
URL:https://sjvswqp.org/event/san-joaquin-valley-stormwater-quality-partnership-june-meeting/
LOCATION:Virtual\, Zoom Meeting
ORGANIZER;CN="City of Lathrop":MAILTO:jsonner@ci.lathrop.ca.us
END:VEVENT
END:VCALENDAR