BEGIN:VCALENDAR
VERSION:2.0
PRODID:-//San Joaquin Valley Stormwater Quality Partnership - ECPv6.15.20//NONSGML v1.0//EN
CALSCALE:GREGORIAN
METHOD:PUBLISH
X-WR-CALNAME:San Joaquin Valley Stormwater Quality Partnership
X-ORIGINAL-URL:https://sjvswqp.org
X-WR-CALDESC:Events for San Joaquin Valley Stormwater Quality Partnership
REFRESH-INTERVAL;VALUE=DURATION:PT1H
X-Robots-Tag:noindex
X-PUBLISHED-TTL:PT1H
BEGIN:VTIMEZONE
TZID:America/Los_Angeles
BEGIN:DAYLIGHT
TZOFFSETFROM:-0800
TZOFFSETTO:-0700
TZNAME:PDT
DTSTART:20240310T100000
END:DAYLIGHT
BEGIN:STANDARD
TZOFFSETFROM:-0700
TZOFFSETTO:-0800
TZNAME:PST
DTSTART:20241103T090000
END:STANDARD
BEGIN:DAYLIGHT
TZOFFSETFROM:-0800
TZOFFSETTO:-0700
TZNAME:PDT
DTSTART:20250309T100000
END:DAYLIGHT
BEGIN:STANDARD
TZOFFSETFROM:-0700
TZOFFSETTO:-0800
TZNAME:PST
DTSTART:20251102T090000
END:STANDARD
BEGIN:DAYLIGHT
TZOFFSETFROM:-0800
TZOFFSETTO:-0700
TZNAME:PDT
DTSTART:20260308T100000
END:DAYLIGHT
BEGIN:STANDARD
TZOFFSETFROM:-0700
TZOFFSETTO:-0800
TZNAME:PST
DTSTART:20261101T090000
END:STANDARD
END:VTIMEZONE
BEGIN:VEVENT
DTSTART;TZID=America/Los_Angeles:20250228T083000
DTEND;TZID=America/Los_Angeles:20250228T130000
DTSTAMP:20260422T053019
CREATED:20250219T204418Z
LAST-MODIFIED:20250219T204418Z
UID:3434-1740731400-1740747600@sjvswqp.org
SUMMARY:2025 Salmon Release Day
DESCRIPTION:2025 Salmon Days Volunteer Availability \nLodi USD Salmon Release Days are Back! \n\n2/25 Tuesday (Day Use Area)\n2/28 Friday  (Day Use Area)\n3/3 Monday (Hatchery)\n3/7 Friday  (Hatchery)\n3/10 Monday  (Hatchery)\n3/13 Thursday (Hatchery)\n\nVolunteer Info: \n\nVolunteers please arrive at 8:30 am; the day will be done by 1:00 pm.\nVolunteers will be assigned a station and classes will rotate to you.\nEach station will have a binder/bin ready with information\, maps\, posters\, supplies\, etc.\n\nWe hope that you are able to join us in bringing this important nature and environment experience to students! \nTo register follow this link; Salmon Release Volunteer \nRelease Day Map
URL:https://sjvswqp.org/event/2025-salmon-release-day/
ORGANIZER;CN="City of Lodi":MAILTO:twiman@lodi.gov
END:VEVENT
END:VCALENDAR