BEGIN:VCALENDAR
VERSION:2.0
PRODID:-//San Joaquin Valley Stormwater Quality Partnership - ECPv6.15.20//NONSGML v1.0//EN
CALSCALE:GREGORIAN
METHOD:PUBLISH
X-WR-CALNAME:San Joaquin Valley Stormwater Quality Partnership
X-ORIGINAL-URL:https://sjvswqp.org
X-WR-CALDESC:Events for San Joaquin Valley Stormwater Quality Partnership
REFRESH-INTERVAL;VALUE=DURATION:PT1H
X-Robots-Tag:noindex
X-PUBLISHED-TTL:PT1H
BEGIN:VTIMEZONE
TZID:America/Los_Angeles
BEGIN:DAYLIGHT
TZOFFSETFROM:-0800
TZOFFSETTO:-0700
TZNAME:PDT
DTSTART:20240310T100000
END:DAYLIGHT
BEGIN:STANDARD
TZOFFSETFROM:-0700
TZOFFSETTO:-0800
TZNAME:PST
DTSTART:20241103T090000
END:STANDARD
BEGIN:DAYLIGHT
TZOFFSETFROM:-0800
TZOFFSETTO:-0700
TZNAME:PDT
DTSTART:20250309T100000
END:DAYLIGHT
BEGIN:STANDARD
TZOFFSETFROM:-0700
TZOFFSETTO:-0800
TZNAME:PST
DTSTART:20251102T090000
END:STANDARD
BEGIN:DAYLIGHT
TZOFFSETFROM:-0800
TZOFFSETTO:-0700
TZNAME:PDT
DTSTART:20260308T100000
END:DAYLIGHT
BEGIN:STANDARD
TZOFFSETFROM:-0700
TZOFFSETTO:-0800
TZNAME:PST
DTSTART:20261101T090000
END:STANDARD
END:VTIMEZONE
BEGIN:VEVENT
DTSTART;TZID=America/Los_Angeles:20251119T090000
DTEND;TZID=America/Los_Angeles:20251119T100000
DTSTAMP:20260421T121528
CREATED:20251112T224725Z
LAST-MODIFIED:20251119T150642Z
UID:3792-1763542800-1763546400@sjvswqp.org
SUMMARY:November Meeting
DESCRIPTION:The City of Lathrop will be hosting a virtual meeting only. \nSJVSWQP Meeting Agenda_ November 2025 \nSJVSWQP Meeting Minutes_ October 2025
URL:https://sjvswqp.org/event/november-meeting-2/
LOCATION:Virtual\, Zoom Meeting
ORGANIZER;CN="City of Lathrop":MAILTO:jsonner@ci.lathrop.ca.us
END:VEVENT
END:VCALENDAR