BEGIN:VCALENDAR
VERSION:2.0
PRODID:-//San Joaquin Valley Stormwater Quality Partnership - ECPv6.15.20//NONSGML v1.0//EN
CALSCALE:GREGORIAN
METHOD:PUBLISH
X-WR-CALNAME:San Joaquin Valley Stormwater Quality Partnership
X-ORIGINAL-URL:https://sjvswqp.org
X-WR-CALDESC:Events for San Joaquin Valley Stormwater Quality Partnership
REFRESH-INTERVAL;VALUE=DURATION:PT1H
X-Robots-Tag:noindex
X-PUBLISHED-TTL:PT1H
BEGIN:VTIMEZONE
TZID:America/Los_Angeles
BEGIN:DAYLIGHT
TZOFFSETFROM:-0800
TZOFFSETTO:-0700
TZNAME:PDT
DTSTART:20200308T100000
END:DAYLIGHT
BEGIN:STANDARD
TZOFFSETFROM:-0700
TZOFFSETTO:-0800
TZNAME:PST
DTSTART:20201101T090000
END:STANDARD
BEGIN:DAYLIGHT
TZOFFSETFROM:-0800
TZOFFSETTO:-0700
TZNAME:PDT
DTSTART:20210314T100000
END:DAYLIGHT
BEGIN:STANDARD
TZOFFSETFROM:-0700
TZOFFSETTO:-0800
TZNAME:PST
DTSTART:20211107T090000
END:STANDARD
BEGIN:DAYLIGHT
TZOFFSETFROM:-0800
TZOFFSETTO:-0700
TZNAME:PDT
DTSTART:20220313T100000
END:DAYLIGHT
BEGIN:STANDARD
TZOFFSETFROM:-0700
TZOFFSETTO:-0800
TZNAME:PST
DTSTART:20221106T090000
END:STANDARD
BEGIN:DAYLIGHT
TZOFFSETFROM:-0800
TZOFFSETTO:-0700
TZNAME:PDT
DTSTART:20230312T100000
END:DAYLIGHT
BEGIN:STANDARD
TZOFFSETFROM:-0700
TZOFFSETTO:-0800
TZNAME:PST
DTSTART:20231105T090000
END:STANDARD
BEGIN:DAYLIGHT
TZOFFSETFROM:-0800
TZOFFSETTO:-0700
TZNAME:PDT
DTSTART:20240310T100000
END:DAYLIGHT
BEGIN:STANDARD
TZOFFSETFROM:-0700
TZOFFSETTO:-0800
TZNAME:PST
DTSTART:20241103T090000
END:STANDARD
BEGIN:DAYLIGHT
TZOFFSETFROM:-0800
TZOFFSETTO:-0700
TZNAME:PDT
DTSTART:20250309T100000
END:DAYLIGHT
BEGIN:STANDARD
TZOFFSETFROM:-0700
TZOFFSETTO:-0800
TZNAME:PST
DTSTART:20251102T090000
END:STANDARD
END:VTIMEZONE
BEGIN:VEVENT
DTSTART;TZID=America/Los_Angeles:20240320T090000
DTEND;TZID=America/Los_Angeles:20240320T100000
DTSTAMP:20260419T224820
CREATED:20240227T181410Z
LAST-MODIFIED:20240325T132945Z
UID:2167-1710925200-1710928800@sjvswqp.org
SUMMARY:San Joaquin Valley Stormwater Quality Partnership - March 2024 Meeting
DESCRIPTION:This meeting is hosted by City of Lodi a virtual link will be provided via email. Please send an email through this website\, contact us. \n2024 March – SJVSWQP Meeting Agenda \n  \n  \n  \n 
URL:https://sjvswqp.org/event/san-joaquin-valley-stormwater-quality-partnership-monthly-meeting/
ORGANIZER;CN="City of Lodi":MAILTO:twiman@lodi.gov
END:VEVENT
BEGIN:VEVENT
DTSTART;TZID=America/Los_Angeles:20240125T080000
DTEND;TZID=America/Los_Angeles:20240125T170000
DTSTAMP:20260419T224820
CREATED:20240126T044805Z
LAST-MODIFIED:20240126T044805Z
UID:1891-1706169600-1706202000@sjvswqp.org
SUMMARY:SJVSWQP January 2018 Meeting - Tracy
DESCRIPTION:When\n01/24/2018\n\n \n9:00 AM – 11:00 AM\n\nLocation\nCity of Tracy – Wastewater Treatment Plant\n\n\nThis is the monthly San Joaquin Valley Stormwater Quality Partnership Meeting.  Please confirm your attendance through registration. \n\nCity of Tracy – Wastewater Treatment Plant \nUtilities Support Trailer – Conference Room \n3900 Holly Drive\, Tracy\, CA \nConference Call # 857-232-0157 \nCode = 495872
URL:https://sjvswqp.org/event/sjvswqp-january-2018-meeting-tracy/
END:VEVENT
BEGIN:VEVENT
DTSTART;TZID=America/Los_Angeles:20240125T080000
DTEND;TZID=America/Los_Angeles:20240125T170000
DTSTAMP:20260419T224820
CREATED:20240126T034156Z
LAST-MODIFIED:20240126T034156Z
UID:1824-1706169600-1706202000@sjvswqp.org
SUMMARY:SJVSWQP June 24\, 2020 Meeting - Teleconference
DESCRIPTION:When\n06/24/2020\n\n \n9:00 AM – 11:00 AM\n\nLocation\nTeleconference\n\n\nThis is the monthly San Joaquin Valley Stormwater Quality Partnership Meeting.  Please confirm your attendance through registration. This month will be a Teleconference only meeting to discuss the future meetings for the Partnership. \n\nConference Call # 857-232-0157 \nCode = 495872
URL:https://sjvswqp.org/event/sjvswqp-june-24-2020-meeting-teleconference/
END:VEVENT
BEGIN:VEVENT
DTSTART;TZID=America/Los_Angeles:20240117T090000
DTEND;TZID=America/Los_Angeles:20240117T100000
DTSTAMP:20260419T224820
CREATED:20240124T055735Z
LAST-MODIFIED:20240124T055900Z
UID:973-1705482000-1705485600@sjvswqp.org
SUMMARY:SJVSWQP Meeting January 17\, 2024 - Virtual
DESCRIPTION:Monthly Meeting Hosted by City of Stockton \n\n– Date: Wed January 17\, 2024\n– Time: 9:00am – 10:00am\n– Location:  Microsoft Teams\nJoin on your computer\, mobile app or room device \nClick here to join the meeting \nMeeting ID: 260 025 961 308  \nPasscode: RCNELf  \nDownload Teams | Join on the web \nOr call in (audio only) \n+1 209-425-4338\,\,937575363#   United States\, Stockton \nPhone Conference ID: 937 575 363#  \nFind a local number | Reset PIN \nLearn More | Meeting options
URL:https://sjvswqp.org/event/sjvswqp-meeting-january-17-2024-virtual/
END:VEVENT
BEGIN:VEVENT
DTSTART;TZID=America/Los_Angeles:20231213T090000
DTEND;TZID=America/Los_Angeles:20231213T100000
DTSTAMP:20260419T224820
CREATED:20240124T061741Z
LAST-MODIFIED:20240124T061741Z
UID:987-1702458000-1702461600@sjvswqp.org
SUMMARY:SJVSWQP Annual Strategic Meeting December 13\, 2023
DESCRIPTION:Annual Strategic Planning Hosted by City of Tracy \n\n– Date: Wed December 13th\, 2023\n– Time: 9:00am – 10:00am\n– Location: 333 Civic Center Dr.\, Tracy\, CA 95376 / Room 109 (first floor by Civic Center Dr. entrance) \n* Microsoft Teams will be available if you cannot come in person \nCity of Tracy City Hall \nMicrosoft Teams meeting \nJoin on your computer\, mobile app or room device \nClick here to join the meeting \nMeeting ID: 232 933 557 911  \n  \nPasscode: FuzofY  \nDownload Teams | Join on the web \nOr call in (audio only) \n+1 209-425-4338\,\,604975445#   United States\, Stockton \nPhone Conference ID: 604 975 445#  \nFind a local number | Reset PIN \nLearn More | Meeting options \n 
URL:https://sjvswqp.org/event/sjvswqp-annual-strategic-meeting-december-13-2023/
END:VEVENT
BEGIN:VEVENT
DTSTART;TZID=America/Los_Angeles:20231115T090000
DTEND;TZID=America/Los_Angeles:20231115T100000
DTSTAMP:20260419T224820
CREATED:20240124T061918Z
LAST-MODIFIED:20240124T061918Z
UID:989-1700038800-1700042400@sjvswqp.org
SUMMARY:SJVSWQP Meeting November 15\, 2023 -virtual
DESCRIPTION:Monthly Meeting Hosted by City of Riverbank \n\n– Date: Wed November 15th\, 2023\n– Time: 9:00am – 10:00am\n– Location:  \nMicrosoft Teams \nJoin on your computer\, mobile app or room device \nClick here to join the meeting \nMeeting ID: 218 284 668 714  \n  \nPasscode: Kj5Aoo  \nDownload Teams | Join on the web \nOr call in (audio only) \n+1 209-425-4338\,\,53023620#   United States\, Stockton \nPhone Conference ID: 530 236 20#  \nFind a local number | Reset PIN \nLearn More | Meeting options \n 
URL:https://sjvswqp.org/event/sjvswqp-meeting-november-15-2023-virtual/
END:VEVENT
BEGIN:VEVENT
DTSTART;TZID=America/Los_Angeles:20231018T090000
DTEND;TZID=America/Los_Angeles:20231018T110000
DTSTAMP:20260419T224820
CREATED:20240124T062210Z
LAST-MODIFIED:20240124T062210Z
UID:991-1697619600-1697626800@sjvswqp.org
SUMMARY:SJVSWQP Meeting October 18\, 2023 -virtual
DESCRIPTION:Monthly Meeting Hosted by City of Tracy \n\n– Date: Wed October 18th\, 2023\n– Time: 9:00am – 11:00am\n– Location: \nMicrosoft Teams \nMicrosoft Teams meeting \nJoin on your computer\, mobile app or room device \nClick here to join the meeting \nMeeting ID: 278 276 334 734  \n  \nPasscode: 5bTXtY  \nDownload Teams | Join on the web \nOr call in (audio only) \n+1 209-425-4338\,\,28572468#   United States\, Stockton \nPhone Conference ID: 285 724 68#  \nFind a local number | Reset PIN \nLearn More | Meeting options \n 
URL:https://sjvswqp.org/event/sjvswqp-meeting-october-18-2023-virtual/
END:VEVENT
BEGIN:VEVENT
DTSTART;TZID=America/Los_Angeles:20230921T090000
DTEND;TZID=America/Los_Angeles:20230921T110000
DTSTAMP:20260419T224820
CREATED:20240124T062713Z
LAST-MODIFIED:20240124T062713Z
UID:995-1695286800-1695294000@sjvswqp.org
SUMMARY:SJVSWQP Meeting August 16 2023 - City of Turlock
DESCRIPTION:CANCLED \nPostponed to September 21\, 2023 virtual 9:00 am – 10:00 am \nMonthly Meeting at City of Turlock \n\n\n– Date: Wed\, August 16th\, 2023\n– Time: 9:00am – 11:00am\n– Location: City of Turlock – City Hall – Yosemite Room \n– Address:\n156 S. Broadway \nTurlock\,CA\n \nNO Call-in available
URL:https://sjvswqp.org/event/sjvswqp-meeting-august-16-2023-city-of-turlock/
END:VEVENT
BEGIN:VEVENT
DTSTART;TZID=America/Los_Angeles:20230921T090000
DTEND;TZID=America/Los_Angeles:20230921T110000
DTSTAMP:20260419T224820
CREATED:20240124T062509Z
LAST-MODIFIED:20240124T062550Z
UID:993-1695286800-1695294000@sjvswqp.org
SUMMARY:SJVSWQP Meeting September 21\, 2023 - City of Turlock
DESCRIPTION:Monthly Meeting Hosted by City of Turlock \n\n\n– Date: Thur\, September 21st\, 2023\n– Time: 9:00am – 11:00am\n– Location: \nMicrosoft Teams \n\nMicrosoft Teams meeting \nJoin on your computer\, mobile app or room device \nClick here to join the meeting \nMeeting ID: 267 720 158 271  \n  \nPasscode: 83yXfm  \nDownload Teams | Join on the web \nOr call in (audio only) \n+1 209-425-4338\,\,238354008#   United States\, Stockton \nPhone Conference ID: 238 354 008#  \nFind a local number | Reset PIN \nLearn More | Meeting options
URL:https://sjvswqp.org/event/sjvswqp-meeting-september-21-2023-city-of-turlock/
END:VEVENT
BEGIN:VEVENT
DTSTART;TZID=America/Los_Angeles:20230621T090000
DTEND;TZID=America/Los_Angeles:20230621T110000
DTSTAMP:20260419T224820
CREATED:20240124T062837Z
LAST-MODIFIED:20240124T062837Z
UID:997-1687338000-1687345200@sjvswqp.org
SUMMARY:SJVSWQP June 21\, 2023 Meeting
DESCRIPTION:Monthly San Joaquin Valley Stormwater Quality Partnership Meeting. Please confirm your attendance through registration.\n \nMeeting minutes from previous month and the Agenda for this month may be found here:  https://sjvswqp.org/minutes \nLog in Information: \nMicrosoft Teams meeting \nJoin on your computer\, mobile app or room device \nClick here to join the meeting \nMeeting ID: 243 197 333 395\nPasscode: LcWduB \nDownload Teams | Join on the web \nLearn More | Meeting options
URL:https://sjvswqp.org/event/sjvswqp-june-21-2023-meeting/
END:VEVENT
BEGIN:VEVENT
DTSTART;TZID=America/Los_Angeles:20230518T080000
DTEND;TZID=America/Los_Angeles:20230518T120000
DTSTAMP:20260419T224820
CREATED:20240124T063317Z
LAST-MODIFIED:20240124T063317Z
UID:999-1684396800-1684411200@sjvswqp.org
SUMMARY:SJVSWQP Annual MS4-Phase I&II Regional Training/ IN PERSON
DESCRIPTION:When\n05/18/2023\n\n \n8:00 AM – 12:00 PM\n\nLocation\nCity of Manteca Transit Center 220 Moffat BLVD Manteca\, Ca 95336\n\nRegistered\n77 registrants\n\n\n\n\nRegistration\n\n\nRegular Attendance – $100.00\nIncluded in fee: registration\, PDU credits\, and brunch items.\n\nVendor Fee – $250.00\nIncluded in fee: vendor table-two attendees\, PDU credits\, and brunch items.\n\n\n\n\n\n\n\n\nRegistration is closed
URL:https://sjvswqp.org/event/sjvswqp-annual-ms4-phase-iii-regional-training-in-person/
END:VEVENT
BEGIN:VEVENT
DTSTART;TZID=America/Los_Angeles:20230419T090000
DTEND;TZID=America/Los_Angeles:20230419T110000
DTSTAMP:20260419T224820
CREATED:20240124T063417Z
LAST-MODIFIED:20240124T063417Z
UID:1001-1681894800-1681902000@sjvswqp.org
SUMMARY:SJVSWQP April 19\, 2023 Meeting - Virtual Meeting
DESCRIPTION:Monthly San Joaquin Valley Stormwater Quality Partnership Meeting. Please confirm your attendance through registration.\n \nMeeting minutes from previous month and the Agenda for this month may be found here:  https://sjvswqp.org/minutes \nLog in Information: \nMicrosoft Teams meeting \nJoin on your computer\, mobile app or room device \nClick here to join the meeting \nMeeting ID: 243 197 333 395\nPasscode: LcWduB \nDownload Teams | Join on the web \nLearn More | Meeting options
URL:https://sjvswqp.org/event/sjvswqp-april-19-2023-meeting-virtual-meeting/
END:VEVENT
BEGIN:VEVENT
DTSTART;TZID=America/Los_Angeles:20230215T090000
DTEND;TZID=America/Los_Angeles:20230215T110000
DTSTAMP:20260419T224820
CREATED:20240124T063535Z
LAST-MODIFIED:20240124T063535Z
UID:1003-1676451600-1676458800@sjvswqp.org
SUMMARY:SJVSWQP February 15\, 2023 Meeting - Newman\, CA
DESCRIPTION:Monthly San Joaquin Valley Stormwater Quality Partnership Meeting. Please confirm your attendance through registration.\n \nMeeting minutes from previous month and the Agenda for this month may be found here:  https://sjvswqp.org/minutes \nFor remote attendance: \nConference Call Dial-in-Number: 857-232-0157 \nMeeting ID: 495872\n1.  Participant: Say Your name then push #\n \n2. To record the meeting press 5* \n3. To end the call press 78* \nOtherwise\, we will see you there. \n  \n– Date: Wed\, Feb 15\, 2023 \n– Time: 9am – 11:00am \n– Location: City of Newman – City Hall \n– Address: 938 Fresno Street\, Newman\, CA
URL:https://sjvswqp.org/event/sjvswqp-february-15-2023-meeting-newman-ca/
END:VEVENT
BEGIN:VEVENT
DTSTART;TZID=America/Los_Angeles:20221207T090000
DTEND;TZID=America/Los_Angeles:20221207T110000
DTSTAMP:20260419T224820
CREATED:20240124T065658Z
LAST-MODIFIED:20240124T065658Z
UID:1005-1670403600-1670410800@sjvswqp.org
SUMMARY:SJVSWQP 2022 Annual Strategic Planning Event
DESCRIPTION:This is the San Joaquin Valley Stormwater Quality Partnership Annual Strategic Planning Meeting.  We will be planning our next years meetings\, activities as well as training workshops.  We will also be deciding dates\, times and locations for our meetings. \nThis meeting is in person only. \n\nHosted by the City of Tracy \n9 AM to 11 AM
URL:https://sjvswqp.org/event/sjvswqp-2022-annual-strategic-planning-event/
END:VEVENT
BEGIN:VEVENT
DTSTART;TZID=America/Los_Angeles:20221012T090000
DTEND;TZID=America/Los_Angeles:20221012T110000
DTSTAMP:20260419T224820
CREATED:20240124T065812Z
LAST-MODIFIED:20240124T065812Z
UID:1017-1665565200-1665572400@sjvswqp.org
SUMMARY:SJVSWQP October 12\, 2022 Meeting
DESCRIPTION:This is the monthly San Joaquin Valley Stormwater Quality Partnership Meeting. Hosted by The City of Lathrop. Please confirm your attendance through registration.\n \nMeeting minutes from previous month and the Agenda for this month may be found here:  https://sjvswqp.org/minutes \n– Date: Wed\, October 12\, 2022 \n– Time: 9am – 11:00am \n– Location: Remote Teams Meeting \n\n\nCity of Lathrop is inviting you to a scheduled ZoomGov meeting. \nSan Joaquin Valley Stormwater Quality Partnership – \nTime: Oct 12\, 2022 09:00 AM Pacific Time (US and Canada) \nJoin ZoomGov Meeting \nhttps://www.zoomgov.com/j/1601195415?pwd=QU44M1lIbmF1OGtZY3BXTzhpZ1BsZz09 \nMeeting ID: 160 119 5415 \nPasscode: 695695 \nOne tap mobile \n+16692545252\,\,1601195415# US (San Jose) \n+16692161590\,\,1601195415# US (San Jose) \nDial by your location \n+1 669 254 5252 US (San Jose) \n+1 669 216 1590 US (San Jose) \n+1 646 828 7666 US (New York) \n+1 551 285 1373 US \nMeeting ID: 160 119 5415 \nFind your local number: https://www.zoomgov.com/u/acE7VUwylc
URL:https://sjvswqp.org/event/sjvswqp-october-12-2022-meeting/
END:VEVENT
BEGIN:VEVENT
DTSTART;TZID=America/Los_Angeles:20220824T090000
DTEND;TZID=America/Los_Angeles:20220824T110000
DTSTAMP:20260419T224820
CREATED:20240124T065914Z
LAST-MODIFIED:20240124T065914Z
UID:1021-1661331600-1661338800@sjvswqp.org
SUMMARY:SJVSWQP August 24\, 2022 Meeting - REMOTE
DESCRIPTION:This is the monthly San Joaquin Valley Stormwater Quality Partnership Meeting. Please confirm your attendance through registration. \nMeeting minutes from previous month and the Agenda for this month may be found here:  https://sjvswqp.org/minutes \n– Date: Wed\, August 24\, 2022 \n– Time: 9am – 11:00am \n– Location: Remote Teams Meeting \n\n\nMicrosoft Teams meeting \nJoin on your computer or mobile app \nClick here to join the meeting \nMeeting ID: 257 532 126 875\nPasscode: 7dGHcU \nDownload Teams | Join on the web \nOr call in (audio only) \n+1 209-425-4338\,\,346784915#   United States\, Stockton \nPhone Conference ID: 346 784 915# \nFind a local number | Reset PIN \nLearn More | Meeting options
URL:https://sjvswqp.org/event/sjvswqp-august-24-2022-meeting-remote/
END:VEVENT
BEGIN:VEVENT
DTSTART;TZID=America/Los_Angeles:20220622T090000
DTEND;TZID=America/Los_Angeles:20220622T110000
DTSTAMP:20260419T224820
CREATED:20240124T070030Z
LAST-MODIFIED:20240124T070030Z
UID:1026-1655888400-1655895600@sjvswqp.org
SUMMARY:SJVSWQP June 22\, 2022 Meeting - Newman\, CA
DESCRIPTION:This is our First in Person monthly San Joaquin Valley Stormwater Quality Partnership Meeting. Please confirm your attendance through registration.\n\n\n\n\n\n\n\n\n\n\n\n\n\n\n\n\n\n\n\n\n\n\n\n\nMeeting minutes from previous month and the Agenda for this month may be found here:  https://sjvswqp.org/minutes \nFor remote attendance: \nConference Call Dial-in-Number: 857-232-0157 \nMeeting ID: 495872\n1.  Participant: Say Your name then push #\n \n2. To record the meeting press 5* \n3. To end the call press 78* \nOtherwise\, we will see you there. \n\n– Date: Wed\, June 22\, 2022 \n– Time: 9am – 11:00am \n– Location: City of Newman – City Hall \n– Address: 938 Fresno Street\, Newman\, CA
URL:https://sjvswqp.org/event/sjvswqp-june-22-2022-meeting-newman-ca/
END:VEVENT
BEGIN:VEVENT
DTSTART;TZID=America/Los_Angeles:20220519T080000
DTEND;TZID=America/Los_Angeles:20220519T120000
DTSTAMP:20260419T224820
CREATED:20240124T070202Z
LAST-MODIFIED:20240124T070212Z
UID:1032-1652947200-1652961600@sjvswqp.org
SUMMARY:SJVSWQP Annual MS4-Phase I&II Regional Training | Webinar
DESCRIPTION:When\n05/19/2022\n\n \n8:00 AM – 12:00 PM\n\nLocation\nWebinar\n\n\n\n\n\nWebinar – $60.00\nThis webinar will be Hosted by 8×8\, upon registration you will receive a confirmation email with instructions on how to access. This training will provide 4 PDH’s or PDQ’s.
URL:https://sjvswqp.org/event/1032/
END:VEVENT
BEGIN:VEVENT
DTSTART;TZID=America/Los_Angeles:20220427T090000
DTEND;TZID=America/Los_Angeles:20220427T100000
DTSTAMP:20260419T224820
CREATED:20240124T070404Z
LAST-MODIFIED:20240124T070404Z
UID:1040-1651050000-1651053600@sjvswqp.org
SUMMARY:SJVSWQP April 27\, 2022 Teleconference Meeting
DESCRIPTION:When\n04/27/2022\n\n \n9:00 AM – 10:00 AM\n\nLocation\nVIA Teams\n\n\nThis is the monthly San Joaquin Valley Stormwater Quality Partnership meeting.  Please confirm your attendance by registering. \nMeeting information will be sent to the registered participants on Wednesday a.m. prior to the meeting.  
URL:https://sjvswqp.org/event/sjvswqp-april-27-2022-teleconference-meeting/
END:VEVENT
BEGIN:VEVENT
DTSTART;TZID=America/Los_Angeles:20220323T090000
DTEND;TZID=America/Los_Angeles:20220323T100000
DTSTAMP:20260419T224820
CREATED:20240124T070559Z
LAST-MODIFIED:20240124T070559Z
UID:1045-1648026000-1648029600@sjvswqp.org
SUMMARY:SJVSWQP March 23\, 2022 Meeting - Teleconference
DESCRIPTION:When\n03/23/2022\n\n \n9:00 AM – 10:00 AM\n\nLocation Teleconference\n\nSJVSWQP Monthly Meeting\n\n\n\nThis is the monthly San Joaquin Valley StormWater Quality Partnership Meeting. Please confirm your attendance through registration. \nA Microsoft Teams meeting information will be sent to the registered participants on Wednesday a.m. prior to the meeting.  
URL:https://sjvswqp.org/event/sjvswqp-march-23-2022-meeting-teleconference/
END:VEVENT
BEGIN:VEVENT
DTSTART;TZID=America/Los_Angeles:20220215T090000
DTEND;TZID=America/Los_Angeles:20220215T100000
DTSTAMP:20260419T224820
CREATED:20240124T070721Z
LAST-MODIFIED:20240124T070737Z
UID:1052-1644915600-1644919200@sjvswqp.org
SUMMARY:SJVSWQP February 15\, 2022 Meeting - Teleconference
DESCRIPTION:When\n02/15/2022\n\n \n9:00 AM – 10:00 AM\n\nLocation\nTeleconference\n\n\n\n\n\nSJVSWQP Monthly Meeting\n\nThis is the monthly San Joaquin Valley StormWater Quality Partnership Meeting hosted by the City of Escalon. Please confirm your attendance through registration. \nMeeting information will be sent to the registered participants on Wednesday a.m. prior to the meeting.  
URL:https://sjvswqp.org/event/add-to-my-calendar-sjvswqp-february-15-2022-meeting-teleconference/
END:VEVENT
BEGIN:VEVENT
DTSTART;TZID=America/Los_Angeles:20211209T093000
DTEND;TZID=America/Los_Angeles:20211209T100000
DTSTAMP:20260419T224820
CREATED:20240126T032403Z
LAST-MODIFIED:20240126T032403Z
UID:1799-1639042200-1639044000@sjvswqp.org
SUMMARY:SJVSWQP 2021 Annual Strategic Planning Event
DESCRIPTION:When\n12/09/2021\n\n \n9:30 AM – 10:00 AM\n\nLocation\nMicrosoft Teams\n\n\nThis is the San Joaquin Valley Stormwater Quality Partnership Annual Strategic Planning Meeting.  We will be planning our next years meetings\, activities as well as training workshops.  We will also be deciding dates\, times and locations for our meetings. \nThis meeting will have in person and virtual meeting options. \n\n\nHosted by the City of Tracy \n9 AM to 10 AM \nMeeting minutes from previous month and the Agenda for this month may be found here:  https://sjvswqp.org/minutes\n \nMeeting agenda as well as conference phone number will be provided in email format the day of.
URL:https://sjvswqp.org/event/sjvswqp-2021-annual-strategic-planning-event/
END:VEVENT
BEGIN:VEVENT
DTSTART;TZID=America/Los_Angeles:20210922T090000
DTEND;TZID=America/Los_Angeles:20210922T100000
DTSTAMP:20260419T224820
CREATED:20240126T032532Z
LAST-MODIFIED:20240126T032532Z
UID:1801-1632301200-1632304800@sjvswqp.org
SUMMARY:SJVSWQP September 22\, 2021 Meeting - Teleconference
DESCRIPTION:When\n09/22/2021\n\n \n9:00 AM – 10:00 AM\n\nLocation\nTeleconference\n\n\nThis is the monthly San Joaquin Valley StormWater Quality Partnership Meeting. Please confirm your attendance through registration. \n\nMeeting information will be sent to the registered participants on Wednesday a.m. prior to the meeting.  
URL:https://sjvswqp.org/event/sjvswqp-september-22-2021-meeting-teleconference/
END:VEVENT
BEGIN:VEVENT
DTSTART;TZID=America/Los_Angeles:20210825T090000
DTEND;TZID=America/Los_Angeles:20240126T100000
DTSTAMP:20260419T224820
CREATED:20240126T032707Z
LAST-MODIFIED:20240126T032707Z
UID:1803-1629882000-1706263200@sjvswqp.org
SUMMARY:SJVSWQP August 25\, 2021 Meeting - Teleconference
DESCRIPTION:When\n08/25/2021\n\n \n9:00 AM – 10:00 AM\n\nLocation\nTeleconference\n\n\nThis is the monthly San Joaquin Valley StormWater Quality Partnership Meeting. Please confirm your attendance through registration. \n\nA Zoom meeting information will be sent to the registered participants on Wednesday a.m. prior to the meeting.  
URL:https://sjvswqp.org/event/sjvswqp-august-25-2021-meeting-teleconference/
END:VEVENT
BEGIN:VEVENT
DTSTART;TZID=America/Los_Angeles:20210825T090000
DTEND;TZID=America/Los_Angeles:20210825T100000
DTSTAMP:20260419T224820
CREATED:20240126T032817Z
LAST-MODIFIED:20240126T032817Z
UID:1805-1629882000-1629885600@sjvswqp.org
SUMMARY:SJVSWQP August 25\, 2021 Meeting - Teleconference
DESCRIPTION:When\n08/02/2021\n\n \n9:00 AM – 10:00 AM\n\nLocation\nTeleconference\n\n\nThis is the monthly San Joaquin Valley StormWater Quality Partnership Meeting. Please confirm your attendance through registration. \n\nA Microsoft Teams meeting information will be sent to the registered participants on Wednesday a.m. prior to the meeting.  
URL:https://sjvswqp.org/event/sjvswqp-august-25-2021-meeting-teleconference-2/
END:VEVENT
BEGIN:VEVENT
DTSTART;TZID=America/Los_Angeles:20210623T090000
DTEND;TZID=America/Los_Angeles:20210623T100000
DTSTAMP:20260419T224820
CREATED:20240126T032923Z
LAST-MODIFIED:20240126T032923Z
UID:1807-1624438800-1624442400@sjvswqp.org
SUMMARY:SJVSWQP June 23\, 2021 Meeting - Teleconference
DESCRIPTION:When\n06/23/2021\n\n \n9:00 AM – 10:00 AM\n\nLocation\nTeleconference\n\n\nThis is the monthly San Joaquin Valley StormWater Quality Partnership Meeting. Please confirm your attendance through registration. \n\nA Microsoft Teams meeting information will be sent to the registered participants on Wednesday a.m. prior to the meeting.  
URL:https://sjvswqp.org/event/sjvswqp-june-23-2021-meeting-teleconference/
END:VEVENT
BEGIN:VEVENT
DTSTART;TZID=America/Los_Angeles:20210520T090000
DTEND;TZID=America/Los_Angeles:20210520T090000
DTSTAMP:20260419T224820
CREATED:20240126T033219Z
LAST-MODIFIED:20240126T033219Z
UID:1809-1621501200-1621501200@sjvswqp.org
SUMMARY:SJVSWQP 2021 Regional Training | Virtual |
DESCRIPTION:VIRTUAL TRAINING\n(Thursday)\nMay 20\, 2021\n9:00 AM – 3:00 PM\nS\nMS4 / PHASE II\n2021 REGIONAL STORM WATER TRAINING\nSAN JOAQUIN VALLEY STORM WATER QUALITY PARTNERSHIP\nSPEAKERS / TOPICS\nPAUL LEVY /State Water Resources Control Board / Upcoming Permit\nBRET SMITH / Compliance First\, LLC / Construction General Permit\nKAREN COWAN/ CASQA / The Vision\nTOM MARTIN & HERNAN CORTEZ / Rick Engineering Co. /\nMulti-Benefits-Storm Water Projects\nCATHLEEN GARNAND / Santa Barbara County / Public Works-Good\nHousekeeping\nCALEB SMITH / City of Tracy / IDDE\nREGISTER ON LINE AT: WWW.SJVSWQP.ORG\nCOST: $60.00 EACH ATTENDEE\nPDU’S OFFERED FOR REGISTRATION AND FULL ATTENDANCE\nSPONSORED BY: MEMBERS OF THE SIVSWQP
URL:https://sjvswqp.org/event/sjvswqp-2021-regional-training-virtual/
END:VEVENT
BEGIN:VEVENT
DTSTART;TZID=America/Los_Angeles:20210428T090000
DTEND;TZID=America/Los_Angeles:20210428T100000
DTSTAMP:20260419T224820
CREATED:20240126T033324Z
LAST-MODIFIED:20240126T033324Z
UID:1812-1619600400-1619604000@sjvswqp.org
SUMMARY:SJVSWQP April 28\, 2021 Meeting - Teleconference
DESCRIPTION:When\n04/28/2021\n\n \n9:00 AM – 10:00 AM\n\nLocation\nTeleconference\n\nThis is the monthly San Joaquin Valley StormWater Quality Partnership Meeting. Please confirm your attendance through registration.\n\nA Microsoft Teams meeting information will be sent to the registered participants on Wednesday a.m. prior to the meeting.      \n 
URL:https://sjvswqp.org/event/sjvswqp-april-28-2021-meeting-teleconference/
END:VEVENT
BEGIN:VEVENT
DTSTART;TZID=America/Los_Angeles:20210324T090000
DTEND;TZID=America/Los_Angeles:20210324T100000
DTSTAMP:20260419T224820
CREATED:20240126T033459Z
LAST-MODIFIED:20240126T033459Z
UID:1814-1616576400-1616580000@sjvswqp.org
SUMMARY:SJVSWQP March 24\, 2020 Meeting - Teleconference
DESCRIPTION:When\n03/24/2021\n\n \n9:00 AM – 10:00 AM\n\nLocation\nTeleconference\n\n\nThis is the monthly San Joaquin Valley Stormwater Quality Partnership Meeting hosted by City of Escalom.  Please confirm your attendance through registration. \n\nA Microsoft Teams meeting information will be sent to the registered participants on Wednesday a.m. prior to the meeting.  
URL:https://sjvswqp.org/event/sjvswqp-march-24-2020-meeting-teleconference/
END:VEVENT
BEGIN:VEVENT
DTSTART;TZID=America/Los_Angeles:20210224T090000
DTEND;TZID=America/Los_Angeles:20210224T100000
DTSTAMP:20260419T224820
CREATED:20240126T033614Z
LAST-MODIFIED:20240126T033614Z
UID:1816-1614157200-1614160800@sjvswqp.org
SUMMARY:SJVSWQP February 24\, 2020 Meeting - Teleconference
DESCRIPTION:When\n02/24/2021\n\n \n9:00 AM – 10:00 AM\n\nLocation\nTeleconference\n\n\nThis is the monthly San Joaquin Valley Stormwater Quality Partnership Meeting hosted by City of Escalom.  Please confirm your attendance through registration. \n\nA Microsoft Teams meeting information will be sent to the registered participants on Wednesday a.m. prior to the meeting.  
URL:https://sjvswqp.org/event/sjvswqp-february-24-2020-meeting-teleconference/
END:VEVENT
END:VCALENDAR