BEGIN:VCALENDAR
VERSION:2.0
PRODID:-//San Joaquin Valley Stormwater Quality Partnership - ECPv6.15.20//NONSGML v1.0//EN
CALSCALE:GREGORIAN
METHOD:PUBLISH
X-WR-CALNAME:San Joaquin Valley Stormwater Quality Partnership
X-ORIGINAL-URL:https://sjvswqp.org
X-WR-CALDESC:Events for San Joaquin Valley Stormwater Quality Partnership
REFRESH-INTERVAL;VALUE=DURATION:PT1H
X-Robots-Tag:noindex
X-PUBLISHED-TTL:PT1H
BEGIN:VTIMEZONE
TZID:America/Los_Angeles
BEGIN:DAYLIGHT
TZOFFSETFROM:-0800
TZOFFSETTO:-0700
TZNAME:PDT
DTSTART:20110313T100000
END:DAYLIGHT
BEGIN:STANDARD
TZOFFSETFROM:-0700
TZOFFSETTO:-0800
TZNAME:PST
DTSTART:20111106T090000
END:STANDARD
BEGIN:DAYLIGHT
TZOFFSETFROM:-0800
TZOFFSETTO:-0700
TZNAME:PDT
DTSTART:20120311T100000
END:DAYLIGHT
BEGIN:STANDARD
TZOFFSETFROM:-0700
TZOFFSETTO:-0800
TZNAME:PST
DTSTART:20121104T090000
END:STANDARD
BEGIN:DAYLIGHT
TZOFFSETFROM:-0800
TZOFFSETTO:-0700
TZNAME:PDT
DTSTART:20130310T100000
END:DAYLIGHT
BEGIN:STANDARD
TZOFFSETFROM:-0700
TZOFFSETTO:-0800
TZNAME:PST
DTSTART:20131103T090000
END:STANDARD
END:VTIMEZONE
BEGIN:VEVENT
DTSTART;TZID=America/Los_Angeles:20120523T090000
DTEND;TZID=America/Los_Angeles:20120523T103000
DTSTAMP:20260420T163211
CREATED:20240126T070133Z
LAST-MODIFIED:20240126T070133Z
UID:2081-1337763600-1337769000@sjvswqp.org
SUMMARY:SJVSWQP Meeting in May
DESCRIPTION:When\n05/23/2012\n\n \n9:00 AM – 10:30 AM\n\nLocation\nCity of Tracy – City Hall Conference Room #109\n\n\nThis is the monthly San Joaquin Valley Stormwater Quality Partnership Meeting.  Please confirm your attendance through registration. \n\nCity of Tracy – City Hall Conference Room # 109\n333 Civic Center Plaza\nTracy\, CA 95376
URL:https://sjvswqp.org/event/sjvswqp-meeting-in-may/
END:VEVENT
BEGIN:VEVENT
DTSTART;TZID=America/Los_Angeles:20120518T000000
DTEND;TZID=America/Los_Angeles:20120518T000000
DTSTAMP:20260420T163211
CREATED:20240126T070221Z
LAST-MODIFIED:20240126T070221Z
UID:2083-1337299200-1337299200@sjvswqp.org
SUMMARY:Release of 2nd Draft - NPDES Phase II MS4 Permit
DESCRIPTION:When\n05/18/2012\n\nLocation\nSWRCB Phase II webpage – see description\n\n\nThe SWRCB has set May 18\, 2012 as the release date for the 2nd draft of the NPDES Phase II MS4 permit.  It is not certain the time when it will be released at this point. \n\nOn that date\, click here for more information.
URL:https://sjvswqp.org/event/release-of-2nd-draft-npdes-phase-ii-ms4-permit/
END:VEVENT
BEGIN:VEVENT
DTSTART;TZID=America/Los_Angeles:20120510T090000
DTEND;TZID=America/Los_Angeles:20120510T150000
DTSTAMP:20260420T163211
CREATED:20240126T070304Z
LAST-MODIFIED:20240126T070304Z
UID:2085-1336640400-1336662000@sjvswqp.org
SUMMARY:CASQA Quarterly Meeting - State of BMPs
DESCRIPTION:When\n05/10/2012\n\n \n9:00 AM – 3:00 PM\n\nLocation\nOntario\, CA\n\n\nFor further information please check out the CASQA.org website at: \nhttp://www.casqa.org/Meetings/tabid/55/ModuleID/396/ItemID/992/mctl/EventDetails/Default.aspx?selecteddate=5/10/2012
URL:https://sjvswqp.org/event/casqa-quarterly-meeting-state-of-bmps/
END:VEVENT
BEGIN:VEVENT
DTSTART;TZID=America/Los_Angeles:20120425T090000
DTEND;TZID=America/Los_Angeles:20120425T103000
DTSTAMP:20260420T163211
CREATED:20240126T070354Z
LAST-MODIFIED:20240126T070354Z
UID:2087-1335344400-1335349800@sjvswqp.org
SUMMARY:SJVSWQP Meeting in April
DESCRIPTION:When\n04/25/2012\n\n \n9:00 AM – 10:30 AM\n\nLocation\nCity of Ripon – Conference Room\n\n\nThis is the monthly San Joaquin Valley Stormwater Quality Partnership Meeting.  Please confirm your attendance through registration. \n\nCity of Ripon – Conference Room\n259 N. Wilma Avenue\nRipon\, CA 95366
URL:https://sjvswqp.org/event/sjvswqp-meeting-in-april/
END:VEVENT
BEGIN:VEVENT
DTSTART;TZID=America/Los_Angeles:20120419T090000
DTEND;TZID=America/Los_Angeles:20120419T150000
DTSTAMP:20260420T163211
CREATED:20240126T070504Z
LAST-MODIFIED:20240126T070504Z
UID:2089-1334826000-1334847600@sjvswqp.org
SUMMARY:State of Our Rivers Symposium
DESCRIPTION:When\n04/19/2012\n\n \n9:00 AM – 3:00 PM\n\nLocation\nSan Joaquin Council of Governments – 555 E. Weber Ave.\, Stockton\, CA\n\n\nEvent: State of Our Rivers Symposium\n\nSTOCKTON\, Calif. – The health\, management and conservation of the four rivers that provide water to San Joaquin County residents will be the topic of a public meeting on April 19\, 2012.\n\nConservation organizations\, government agencies\, policymakers\, public-interest groups\, the media and concerned citizens are invited to attend the symposium free of charge. Breakfast\, Lunch and refreshments will be provided.\n\nWHAT: Friends of the Lower Calaveras River is hosting a “State of Our Rivers” symposium in partnership with a coalition of non-profit organizations and government agencies. The event will provide an\nopportunity for concerned citizens\, policymakers and the media to learn more about what’s happening to San Joaquin County’s four rivers: the San Joaquin\, Calaveras\, Mokelumne and Stanislaus.\n\nWHERE: San Joaquin Council of Governments (SJCOG) Regional Building\, 555 East Weber\nAvenue\, Stockton CA\, 95202. Parking for the event is available Garage located at 330 E Channel St. ($2 per hour fee). The event is free and open to the public.\n\nWHEN: April 19\, 2012: 9:00 AM – 3:00 PM\n\nWHO: U.S. Fish and Wildlife Service\, San Joaquin Council of Governments\, Friends of the Calaveras River\, Defenders of Wildlife\n\nLinks:\nLearn more about the Friends of the Calaveras River: \n \nwww.riverofskulls.wordpress.org    \n \nFriends of the Lower Calaveras River was formed in 2007 by some 30 concerned citizens\, who were disturbed by the\ndeteriorating conditions on the Calaveras. Today\, FLCR boasts more than 550 members and 11 partners from local\nconservation organizations\, county and federal agencies. FLCR’s mission is to advocate for the sustainable management of the\nresources and conditions of the Lower Calaveras River.
URL:https://sjvswqp.org/event/state-of-our-rivers-symposium/
END:VEVENT
BEGIN:VEVENT
DTSTART;TZID=America/Los_Angeles:20120418T143000
DTEND;TZID=America/Los_Angeles:20120418T153000
DTSTAMP:20260420T163211
CREATED:20240126T070551Z
LAST-MODIFIED:20240126T070551Z
UID:2091-1334759400-1334763000@sjvswqp.org
SUMMARY:CASQA Phase II Teleconference
DESCRIPTION:When\n04/18/2012\n\n \n2:30 PM – 3:30 PM\n\nLocation\nTeleconference\n\n\nHello!  A reminder that we have a CASQA Phase II subcommittee call tomorrow (April 18) at 2:30pm.  A draft agenda and call-in information are provided below.  If you have additions to the agenda\, please let me know. \n  \nDRAFT AGENDA \n\n1.       Timeline Recap\n2.       Monitoring Subgroup Process Recap\n3.       Other?\n\n  \n  \nCALL-IN INFORMATION \nNumber: 800-786-1922 \nAccess code: 87779856# \n  \nThanks\, \nRebecca
URL:https://sjvswqp.org/event/casqa-phase-ii-teleconference-2/
END:VEVENT
BEGIN:VEVENT
DTSTART;TZID=America/Los_Angeles:20120410T080000
DTEND;TZID=America/Los_Angeles:20120412T170000
DTSTAMP:20260420T163211
CREATED:20240126T070640Z
LAST-MODIFIED:20240126T070640Z
UID:2093-1334044800-1334250000@sjvswqp.org
SUMMARY:GotSWPPP QSP/QSD Training
DESCRIPTION:Start\n04/10/2012\n\n \n8:00 AM\n\nEnd\n04/12/2012\n\n \n5:00 PM\n\nLocation\nMerced\, CA
URL:https://sjvswqp.org/event/gotswppp-qsp-qsd-training-3/
END:VEVENT
BEGIN:VEVENT
DTSTART;TZID=America/Los_Angeles:20120328T090000
DTEND;TZID=America/Los_Angeles:20120328T103000
DTSTAMP:20260420T163211
CREATED:20240126T070732Z
LAST-MODIFIED:20240126T070732Z
UID:2095-1332925200-1332930600@sjvswqp.org
SUMMARY:SJVSWQP Meeting in March
DESCRIPTION:When\n03/28/2012\n\n \n9:00 AM – 10:30 AM\n\nLocation\nTracy Unified School District\n\n\nThis is the monthly San Joaquin Valley Stormwater Quality Partnership Meeting.  Please confirm your attendance through registration. \n\nTracy Unified School District\n1875 W. Lowell Avenue\nTracy\, CA
URL:https://sjvswqp.org/event/sjvswqp-meeting-in-march/
END:VEVENT
BEGIN:VEVENT
DTSTART;TZID=America/Los_Angeles:20120306T090000
DTEND;TZID=America/Los_Angeles:20120306T160000
DTSTAMP:20260420T163211
CREATED:20240126T070827Z
LAST-MODIFIED:20240126T070827Z
UID:2097-1331024400-1331049600@sjvswqp.org
SUMMARY:Delta Methylmercury Workshop
DESCRIPTION:When\n03/06/2012\n\n \n9:00 AM – 4:00 PM\n\nLocation\nBoard Meeting Room – CVRWQCB\, 11020 Sun Center Drive\, Rancho Cordova\, CA\n\n\nDear Delta Methylmercury Stakeholders\, \n  \n  \nYou are invited to a public workshop with staff\, stake-holders\, and the Technical Advisory Committee (TAC)  for the Delta Methymercury Control Studies on March 6\, 2012. \n  \n  \nLocation: Board meeting room of the Central Valley Water Board\, 11020 Sun Center Drive\, Suite 200\, Rancho Cordova. \n  \nApproximate time: 9 am – 4 pm. \n  \n  \nPurposes: to introduce the TAC to stakeholders\, answer questions about Study Guidelines\, and to discuss with the TAC methylmercury control study needs\, data gaps\, and expectations.  \n  \n  \nA final agenda will be sent before the workshop and will be posted on the Central Valley Water Board’s Delta mercury TMDL webpage.  \n  \n  \nThis workshop is an opportunity to spend time with our independent TAC. Collectively\, they have expertise related to mercury\, methylmercury\, waste water treatment\, hydrology\, agriculture and other land practices\, wetland design\, urban runoff management\, and our Bay-Delta system.  To maximize this learning opportunity\,  I encourage you to submit questions prior to the workshop.  Questions should be submitted to me.  I will forward them to the TAC.  Possible question topics include potential study topics\, protocols\, Study Guidelines\, or the Phase 1 control program in general.  \n  \n  \nPlease contact Janis Cooke for more information\, jcooke@waterboards.ca.gov
URL:https://sjvswqp.org/event/delta-methylmercury-workshop/
END:VEVENT
BEGIN:VEVENT
DTSTART;TZID=America/Los_Angeles:20120306T080000
DTEND;TZID=America/Los_Angeles:20120308T170000
DTSTAMP:20260420T163211
CREATED:20240126T070918Z
LAST-MODIFIED:20240126T070918Z
UID:2099-1331020800-1331226000@sjvswqp.org
SUMMARY:GotSWPPP QSP/QSD Training
DESCRIPTION:Start\n03/06/2012\n\n \n8:00 AM\n\nEnd\n03/08/2012\n\n \n5:00 PM\n\nLocation\nHoliday Inn Express – Lodi\, CA\n\n\nGo to GotSWPPP.com to register.
URL:https://sjvswqp.org/event/gotswppp-qsp-qsd-training-4/
END:VEVENT
BEGIN:VEVENT
DTSTART;TZID=America/Los_Angeles:20120222T090000
DTEND;TZID=America/Los_Angeles:20120222T103000
DTSTAMP:20260420T163211
CREATED:20240126T071006Z
LAST-MODIFIED:20240126T071006Z
UID:2101-1329901200-1329906600@sjvswqp.org
SUMMARY:SJVSWQP Meeting
DESCRIPTION:When\n02/22/2012\n\n \n9:00 AM – 10:30 AM\n\nLocation\nPort of Stockton\n\n\nThis is the monthly San Joaquin Valley Stormwater Quality Partnership Meeting.  Please confirm your attendance through registration.\nPort of Stockton  – Portside Room \n2303 Port Road F \nMeeting Room Location (Port of Stockton) \nGoogle Map for Driving \n2301 W Washington St Stockton\, CA 95203\nTurn right to Agri Business Center (Road) at this address.\nYou can’t miss the meeting room. 🙂
URL:https://sjvswqp.org/event/sjvswqp-meeting-10/
END:VEVENT
BEGIN:VEVENT
DTSTART;TZID=America/Los_Angeles:20120215T143000
DTEND;TZID=America/Los_Angeles:20120215T153000
DTSTAMP:20260420T163211
CREATED:20240126T071052Z
LAST-MODIFIED:20240126T071052Z
UID:2103-1329316200-1329319800@sjvswqp.org
SUMMARY:CASQA Phase II Subcommitte Conference Call
DESCRIPTION:When\n02/15/2012\n\n \n2:30 PM – 3:30 PM\n\nLocation\nSee phone in information below. NOTE: this meeting may be rescheduled for later in the month if some of the subcommittees haven’t had a chance to meet with SWRCB yet.\n\n\nMonthly CASQA Phase II Subcommittee Conference Call with updates about the current Phase II permit.  \n  \nCALL-IN INFORMATION \nNumber: 800-786-1922 \nAccess code: 87779856#
URL:https://sjvswqp.org/event/casqa-phase-ii-subcommitte-conference-call/
END:VEVENT
BEGIN:VEVENT
DTSTART;TZID=America/Los_Angeles:20120214T090000
DTEND;TZID=America/Los_Angeles:20120214T153000
DTSTAMP:20260420T163211
CREATED:20240126T071140Z
LAST-MODIFIED:20240126T071140Z
UID:2105-1329210000-1329233400@sjvswqp.org
SUMMARY:Who's Watching the San Joaquin River" - forum workshop
DESCRIPTION:When\n02/14/2012\n\n \n9:00 AM – 3:30 PM\n\nLocation\nStanislaus County Agriculture Center – 3800 Cornucopia Way\, Modesto\, CA\n\n\nA Forum Workshop — “Who’s Watching the San Joaquin River” — is scheduled for February 14\, 2012\, 9 am to 3:30 at the Stanislaus Ag Center\, Modesto\, CA. \nSpeakers from federal and state agencies plus agriculture and water districts will describe how each takes the “pulse” of the San Joaquin River\, measuring everything from temperature and flow to chemicals and fish. \nThe event\, sponsored by CURES with EPA Region 9 funding\, features keynote speaker Pamela Creedon of the Regional Water Board along with presentations from key agencies and entities performing water monitoring on the river. \nAfternoon breakout sessions will help answer the question: how can water monitoring data from the San Joaquin River basin be organized for better accessibility and analysis? \nRegistration and sponsorship information is available at \nwww.cureworks.org \nForum Agenda \nLunch available. \nStanislaus County Agriculture Center\n3800 Cornucopia Way\, Modesto\, CA
URL:https://sjvswqp.org/event/whos-watching-the-san-joaquin-river-forum-workshop/
END:VEVENT
BEGIN:VEVENT
DTSTART;TZID=America/Los_Angeles:20120125T090000
DTEND;TZID=America/Los_Angeles:20120125T103000
DTSTAMP:20260420T163211
CREATED:20240126T071222Z
LAST-MODIFIED:20240126T071222Z
UID:2107-1327482000-1327487400@sjvswqp.org
SUMMARY:January 2012 Meeting
DESCRIPTION:When\n01/25/2012\n\n \n9:00 AM – 10:30 AM\n\nLocation\nCity of Manteca Administration Conference Room\n\n\nThe first monthly meeting in 2012. \n\n– Date: Wed\, January 25\, 2012\n– Time: 9am – 10:30am\n– Location: City of Manteca Administration Conference Room\n\n– Address:\n1001 W. Center Street\, Manteca\, CA 95337\n\n(Admin Department in City Hall)
URL:https://sjvswqp.org/event/january-2012-meeting/
END:VEVENT
END:VCALENDAR