BEGIN:VCALENDAR
VERSION:2.0
PRODID:-//San Joaquin Valley Stormwater Quality Partnership - ECPv6.15.20//NONSGML v1.0//EN
CALSCALE:GREGORIAN
METHOD:PUBLISH
X-WR-CALNAME:San Joaquin Valley Stormwater Quality Partnership
X-ORIGINAL-URL:https://sjvswqp.org
X-WR-CALDESC:Events for San Joaquin Valley Stormwater Quality Partnership
REFRESH-INTERVAL;VALUE=DURATION:PT1H
X-Robots-Tag:noindex
X-PUBLISHED-TTL:PT1H
BEGIN:VTIMEZONE
TZID:America/Los_Angeles
BEGIN:DAYLIGHT
TZOFFSETFROM:-0800
TZOFFSETTO:-0700
TZNAME:PDT
DTSTART:20110313T100000
END:DAYLIGHT
BEGIN:STANDARD
TZOFFSETFROM:-0700
TZOFFSETTO:-0800
TZNAME:PST
DTSTART:20111106T090000
END:STANDARD
BEGIN:DAYLIGHT
TZOFFSETFROM:-0800
TZOFFSETTO:-0700
TZNAME:PDT
DTSTART:20120311T100000
END:DAYLIGHT
BEGIN:STANDARD
TZOFFSETFROM:-0700
TZOFFSETTO:-0800
TZNAME:PST
DTSTART:20121104T090000
END:STANDARD
BEGIN:DAYLIGHT
TZOFFSETFROM:-0800
TZOFFSETTO:-0700
TZNAME:PDT
DTSTART:20130310T100000
END:DAYLIGHT
BEGIN:STANDARD
TZOFFSETFROM:-0700
TZOFFSETTO:-0800
TZNAME:PST
DTSTART:20131103T090000
END:STANDARD
END:VTIMEZONE
BEGIN:VEVENT
DTSTART;TZID=America/Los_Angeles:20120214T090000
DTEND;TZID=America/Los_Angeles:20120214T153000
DTSTAMP:20260420T153713
CREATED:20240126T071140Z
LAST-MODIFIED:20240126T071140Z
UID:2105-1329210000-1329233400@sjvswqp.org
SUMMARY:Who's Watching the San Joaquin River" - forum workshop
DESCRIPTION:When\n02/14/2012\n\n \n9:00 AM – 3:30 PM\n\nLocation\nStanislaus County Agriculture Center – 3800 Cornucopia Way\, Modesto\, CA\n\n\nA Forum Workshop — “Who’s Watching the San Joaquin River” — is scheduled for February 14\, 2012\, 9 am to 3:30 at the Stanislaus Ag Center\, Modesto\, CA. \nSpeakers from federal and state agencies plus agriculture and water districts will describe how each takes the “pulse” of the San Joaquin River\, measuring everything from temperature and flow to chemicals and fish. \nThe event\, sponsored by CURES with EPA Region 9 funding\, features keynote speaker Pamela Creedon of the Regional Water Board along with presentations from key agencies and entities performing water monitoring on the river. \nAfternoon breakout sessions will help answer the question: how can water monitoring data from the San Joaquin River basin be organized for better accessibility and analysis? \nRegistration and sponsorship information is available at \nwww.cureworks.org \nForum Agenda \nLunch available. \nStanislaus County Agriculture Center\n3800 Cornucopia Way\, Modesto\, CA
URL:https://sjvswqp.org/event/whos-watching-the-san-joaquin-river-forum-workshop/
END:VEVENT
BEGIN:VEVENT
DTSTART;TZID=America/Los_Angeles:20120125T090000
DTEND;TZID=America/Los_Angeles:20120125T103000
DTSTAMP:20260420T153713
CREATED:20240126T071222Z
LAST-MODIFIED:20240126T071222Z
UID:2107-1327482000-1327487400@sjvswqp.org
SUMMARY:January 2012 Meeting
DESCRIPTION:When\n01/25/2012\n\n \n9:00 AM – 10:30 AM\n\nLocation\nCity of Manteca Administration Conference Room\n\n\nThe first monthly meeting in 2012. \n\n– Date: Wed\, January 25\, 2012\n– Time: 9am – 10:30am\n– Location: City of Manteca Administration Conference Room\n\n– Address:\n1001 W. Center Street\, Manteca\, CA 95337\n\n(Admin Department in City Hall)
URL:https://sjvswqp.org/event/january-2012-meeting/
END:VEVENT
END:VCALENDAR