BEGIN:VCALENDAR
VERSION:2.0
PRODID:-//San Joaquin Valley Stormwater Quality Partnership - ECPv6.15.20//NONSGML v1.0//EN
CALSCALE:GREGORIAN
METHOD:PUBLISH
X-WR-CALNAME:San Joaquin Valley Stormwater Quality Partnership
X-ORIGINAL-URL:https://sjvswqp.org
X-WR-CALDESC:Events for San Joaquin Valley Stormwater Quality Partnership
REFRESH-INTERVAL;VALUE=DURATION:PT1H
X-Robots-Tag:noindex
X-PUBLISHED-TTL:PT1H
BEGIN:VTIMEZONE
TZID:America/Los_Angeles
BEGIN:DAYLIGHT
TZOFFSETFROM:-0800
TZOFFSETTO:-0700
TZNAME:PDT
DTSTART:20240310T100000
END:DAYLIGHT
BEGIN:STANDARD
TZOFFSETFROM:-0700
TZOFFSETTO:-0800
TZNAME:PST
DTSTART:20241103T090000
END:STANDARD
BEGIN:DAYLIGHT
TZOFFSETFROM:-0800
TZOFFSETTO:-0700
TZNAME:PDT
DTSTART:20250309T100000
END:DAYLIGHT
BEGIN:STANDARD
TZOFFSETFROM:-0700
TZOFFSETTO:-0800
TZNAME:PST
DTSTART:20251102T090000
END:STANDARD
BEGIN:DAYLIGHT
TZOFFSETFROM:-0800
TZOFFSETTO:-0700
TZNAME:PDT
DTSTART:20260308T100000
END:DAYLIGHT
BEGIN:STANDARD
TZOFFSETFROM:-0700
TZOFFSETTO:-0800
TZNAME:PST
DTSTART:20261101T090000
END:STANDARD
BEGIN:DAYLIGHT
TZOFFSETFROM:-0800
TZOFFSETTO:-0700
TZNAME:PDT
DTSTART:20270314T100000
END:DAYLIGHT
BEGIN:STANDARD
TZOFFSETFROM:-0700
TZOFFSETTO:-0800
TZNAME:PST
DTSTART:20271107T090000
END:STANDARD
END:VTIMEZONE
BEGIN:VEVENT
DTSTART;TZID=America/Los_Angeles:20250319T090000
DTEND;TZID=America/Los_Angeles:20250319T100000
DTSTAMP:20260419T183718
CREATED:20250310T144207Z
LAST-MODIFIED:20250318T144659Z
UID:3453-1742374800-1742378400@sjvswqp.org
SUMMARY:March Meeting
DESCRIPTION:SJVSWQP Meeting Agenda – March 19 2025 \nThe meeting will be virtual only and hosted by the City of Patterson
URL:https://sjvswqp.org/event/march-meeting/
LOCATION:CA
ORGANIZER;CN="City of Patterson":MAILTO:sdelgado@pattersonca.gov
END:VEVENT
BEGIN:VEVENT
DTSTART;TZID=America/Los_Angeles:20250416T090000
DTEND;TZID=America/Los_Angeles:20250416T100000
DTSTAMP:20260419T183718
CREATED:20250409T153307Z
LAST-MODIFIED:20250409T153727Z
UID:3535-1744794000-1744797600@sjvswqp.org
SUMMARY:April meeting
DESCRIPTION:SJVSWQP Meeting Agenda_April 2025 \nThe meeting will be virtual only and hosted by the City of Lodi.
URL:https://sjvswqp.org/event/april-meeting/
LOCATION:CA
ORGANIZER;CN="City of Lodi":MAILTO:twiman@lodi.gov
END:VEVENT
BEGIN:VEVENT
DTSTART;TZID=America/Los_Angeles:20250515T080000
DTEND;TZID=America/Los_Angeles:20250515T120000
DTSTAMP:20260419T183718
CREATED:20250115T172317Z
LAST-MODIFIED:20250402T210304Z
UID:2868-1747296000-1747310400@sjvswqp.org
SUMMARY:2025 Regional Training
DESCRIPTION:REGIONAL TRAINING save the date flyer \n2025 SJVSWQP Regional Training Flyer Schedule of Speakers \nOur expert-led sessions provide hands-on learning\, practical insights\, and valuable networking opportunities to help you excel in the stormwater field. \nThis training is open to all involved in the stormwater field PDU’s are available for continuing education.
URL:https://sjvswqp.org/event/2025-regional-training/
LOCATION:Manteca Transit Center\, 220 Moffat Blvd.\, Manteca\, CA\, 95336\, United States
ORGANIZER;CN="City of Tracy":MAILTO:heather.fernandez@cityoftracy.org
END:VEVENT
BEGIN:VEVENT
DTSTART;TZID=America/Los_Angeles:20250618T090000
DTEND;TZID=America/Los_Angeles:20250618T100000
DTSTAMP:20260419T183718
CREATED:20250610T150501Z
LAST-MODIFIED:20250617T215017Z
UID:3665-1750237200-1750240800@sjvswqp.org
SUMMARY:June Meeting
DESCRIPTION:SJVSWQP Meeting Agenda – June 18 2025 \nThe City of Manteca will be hosting a virtual meeting.
URL:https://sjvswqp.org/event/june-meeting/
LOCATION:CA
END:VEVENT
BEGIN:VEVENT
DTSTART;TZID=America/Los_Angeles:20250716T090000
DTEND;TZID=America/Los_Angeles:20250716T100000
DTSTAMP:20260419T183718
CREATED:20250709T185900Z
LAST-MODIFIED:20250714T221016Z
UID:3687-1752656400-1752660000@sjvswqp.org
SUMMARY:July Meeting
DESCRIPTION:City of Turlock will be hosting virtual and in-person. \nSJVSWQP Meeting Agenda – July 16 2025 \nSJVSWQP Meeting Minutes- June 18 2025
URL:https://sjvswqp.org/event/july-meeting/
LOCATION:City of Turlock\, 1235 Aldrich Rd\, Hughson\, CA\, 95326\, United States
ORGANIZER;CN="City of Turlock":MAILTO:LMadrigal@turlock.ca.us
END:VEVENT
BEGIN:VEVENT
DTSTART;TZID=America/Los_Angeles:20250820T090000
DTEND;TZID=America/Los_Angeles:20250820T100000
DTSTAMP:20260419T183718
CREATED:20250814T142605Z
LAST-MODIFIED:20250818T150445Z
UID:3721-1755680400-1755684000@sjvswqp.org
SUMMARY:August Meeting
DESCRIPTION:The City of Lathrop will be hosting a hybrid meeting. \nSJVSWQP Meeting Agenda_ August 2025 \nSJVSWQP Meeting Minutes- July 16 2025
URL:https://sjvswqp.org/event/august-meeting/
LOCATION:City of Lathrop\, 390 Towne Centre Drive\, Lathrop\, Ca\, 95330
ORGANIZER;CN="City of Lathrop":MAILTO:jsonner@ci.lathrop.ca.us
END:VEVENT
BEGIN:VEVENT
DTSTART;TZID=America/Los_Angeles:20250917T090000
DTEND;TZID=America/Los_Angeles:20250917T100000
DTSTAMP:20260419T183718
CREATED:20250912T193211Z
LAST-MODIFIED:20251008T223053Z
UID:3755-1758099600-1758103200@sjvswqp.org
SUMMARY:September Meeting
DESCRIPTION:The City of Stockton will be hosting a virtual meeting only.
URL:https://sjvswqp.org/event/september-meeting-2/
LOCATION:Virtual\, Zoom Meeting
END:VEVENT
BEGIN:VEVENT
DTSTART;TZID=America/Los_Angeles:20251015T090000
DTEND;TZID=America/Los_Angeles:20251015T100000
DTSTAMP:20260419T183718
CREATED:20251008T222911Z
LAST-MODIFIED:20251013T203251Z
UID:3768-1760518800-1760522400@sjvswqp.org
SUMMARY:October Meeting
DESCRIPTION:Stanislaus County will be hosting a virtual meeting only. \nSJVSWQP Meeting Agenda_ October 2025 SJVSWQP Meeting minutes September 2025
URL:https://sjvswqp.org/event/october-meeting-2/
LOCATION:CA
END:VEVENT
BEGIN:VEVENT
DTSTART;TZID=America/Los_Angeles:20251119T090000
DTEND;TZID=America/Los_Angeles:20251119T100000
DTSTAMP:20260419T183718
CREATED:20251112T224725Z
LAST-MODIFIED:20251119T150642Z
UID:3792-1763542800-1763546400@sjvswqp.org
SUMMARY:November Meeting
DESCRIPTION:The City of Lathrop will be hosting a virtual meeting only. \nSJVSWQP Meeting Agenda_ November 2025 \nSJVSWQP Meeting Minutes_ October 2025
URL:https://sjvswqp.org/event/november-meeting-2/
LOCATION:Virtual\, Zoom Meeting
ORGANIZER;CN="City of Lathrop":MAILTO:jsonner@ci.lathrop.ca.us
END:VEVENT
BEGIN:VEVENT
DTSTART;TZID=America/Los_Angeles:20251210T090000
DTEND;TZID=America/Los_Angeles:20251210T100000
DTSTAMP:20260419T183718
CREATED:20251208T162012Z
LAST-MODIFIED:20251208T162012Z
UID:3811-1765357200-1765360800@sjvswqp.org
SUMMARY:December's Strategic Meeting
DESCRIPTION:The City of Tracy will hold this meeting in a hybrid format\, offering both in-person and virtual options for those who are unable to attend.
URL:https://sjvswqp.org/event/decembers-strategic-meeting/
LOCATION:3900 Holly Drive\, Tracy\, Ca. 95304\, 3900 Holly Drive\, TRACY\, CA\, 95304\, United States
END:VEVENT
BEGIN:VEVENT
DTSTART;TZID=America/Los_Angeles:20260121T090000
DTEND;TZID=America/Los_Angeles:20260121T100000
DTSTAMP:20260419T183718
CREATED:20260116T184054Z
LAST-MODIFIED:20260120T194943Z
UID:3824-1768986000-1768989600@sjvswqp.org
SUMMARY:January Meeting
DESCRIPTION:The City of Ripon will be hosting a hybrid meeting. \n  \nSJVSWQP Meeting minutes December 2025 \nSJVSWQP Meeting Minutes- November 19 2025 \nSJVSWQP Meeting Agenda_January 2026
URL:https://sjvswqp.org/event/january-meeting-2/
LOCATION:City of Ripon\, 259 N Wilma Ave\, Ripon\, CA\, 95366\, United States
ORGANIZER;CN="City of Ripon":MAILTO:JBeukelman@cityofripon.org
END:VEVENT
BEGIN:VEVENT
DTSTART;TZID=America/Los_Angeles:20260218T090000
DTEND;TZID=America/Los_Angeles:20260218T100000
DTSTAMP:20260419T183718
CREATED:20260121T152303Z
LAST-MODIFIED:20260217T205936Z
UID:3841-1771405200-1771408800@sjvswqp.org
SUMMARY:February Meeting
DESCRIPTION:The City of Lathrop will host a hybrid meeting. For those of you who can’t attend in person\, the meeting link is included on the agenda. \nSJVSWQP Meeting Agenda_February 2026 \nSJVSWQP Meeting Minutes_January 2026
URL:https://sjvswqp.org/event/february-meeting-2/
LOCATION:City of Lathrop\, 390 Towne Centre Drive\, Lathrop\, Ca\, 95330
ORGANIZER;CN="City of Lathrop":MAILTO:jsonner@ci.lathrop.ca.us
END:VEVENT
BEGIN:VEVENT
DTSTART;TZID=America/Los_Angeles:20260318T090000
DTEND;TZID=America/Los_Angeles:20260318T100000
DTSTAMP:20260419T183718
CREATED:20260128T194930Z
LAST-MODIFIED:20260313T195217Z
UID:3877-1773824400-1773828000@sjvswqp.org
SUMMARY:March Meeting
DESCRIPTION:The City of Stockton will host this virtual meeting. \nSJVSWQP Meeting Agenda_March 2026
URL:https://sjvswqp.org/event/march-meeting-2/
LOCATION:CA
END:VEVENT
BEGIN:VEVENT
DTSTART;TZID=America/Los_Angeles:20260415T090000
DTEND;TZID=America/Los_Angeles:20260415T100000
DTSTAMP:20260419T183718
CREATED:20260128T200522Z
LAST-MODIFIED:20260413T190525Z
UID:3880-1776243600-1776247200@sjvswqp.org
SUMMARY:April Meeting
DESCRIPTION:This meeting will be hosted by the Port of Stockton and will be conducted in a hybrid format. \n  \nSJVSWQP Meeting Agenda_April 2026 \nSJVSWQP Meeting Minutes_March 2026
URL:https://sjvswqp.org/event/april-meeting-2/
LOCATION:Port of Stockton Portside Room\, 2023 Port Road F\, Stockton\, 95203\, United States
END:VEVENT
BEGIN:VEVENT
DTSTART;TZID=America/Los_Angeles:20260514T080000
DTEND;TZID=America/Los_Angeles:20260514T130000
DTSTAMP:20260419T183718
CREATED:20260128T200940Z
LAST-MODIFIED:20260408T144131Z
UID:3883-1778745600-1778763600@sjvswqp.org
SUMMARY:2026 Regional Training
DESCRIPTION:Save the Date 2026 SJVSWQP Regional Training \n2026 Regional Training Flyer \nOur expert-led sessions provide hands-on learning\, practical insights\, and valuable networking opportunities to help you excel in the stormwater field. \nThis training is open to all involved in the stormwater field PDU’s are available for continuing education. \n 
URL:https://sjvswqp.org/event/regional-training/
LOCATION:Manteca Transit Center\, 220 Moffat Blvd.\, Manteca\, CA\, 95336\, United States
END:VEVENT
BEGIN:VEVENT
DTSTART;TZID=America/Los_Angeles:20260617T090000
DTEND;TZID=America/Los_Angeles:20260617T100000
DTSTAMP:20260419T183718
CREATED:20260128T201149Z
LAST-MODIFIED:20260128T201149Z
UID:3885-1781686800-1781690400@sjvswqp.org
SUMMARY:June Meeting
DESCRIPTION:This meeting is scheduled to be hosted by the City of Ceres.
URL:https://sjvswqp.org/event/june-meeting-2/
LOCATION:CA
END:VEVENT
BEGIN:VEVENT
DTSTART;TZID=America/Los_Angeles:20260715T090000
DTEND;TZID=America/Los_Angeles:20260715T100000
DTSTAMP:20260419T183718
CREATED:20260128T201650Z
LAST-MODIFIED:20260128T201650Z
UID:3887-1784106000-1784109600@sjvswqp.org
SUMMARY:July Meeting
DESCRIPTION:The meeting is scheduled to be hosted by the City of Manteca.
URL:https://sjvswqp.org/event/july-meeting-2/
LOCATION:CA
END:VEVENT
END:VCALENDAR