BEGIN:VCALENDAR
VERSION:2.0
PRODID:-//San Joaquin Valley Stormwater Quality Partnership - ECPv6.15.20//NONSGML v1.0//EN
CALSCALE:GREGORIAN
METHOD:PUBLISH
X-WR-CALNAME:San Joaquin Valley Stormwater Quality Partnership
X-ORIGINAL-URL:https://sjvswqp.org
X-WR-CALDESC:Events for San Joaquin Valley Stormwater Quality Partnership
REFRESH-INTERVAL;VALUE=DURATION:PT1H
X-Robots-Tag:noindex
X-PUBLISHED-TTL:PT1H
BEGIN:VTIMEZONE
TZID:America/Los_Angeles
BEGIN:DAYLIGHT
TZOFFSETFROM:-0800
TZOFFSETTO:-0700
TZNAME:PDT
DTSTART:20120311T100000
END:DAYLIGHT
BEGIN:STANDARD
TZOFFSETFROM:-0700
TZOFFSETTO:-0800
TZNAME:PST
DTSTART:20121104T090000
END:STANDARD
BEGIN:DAYLIGHT
TZOFFSETFROM:-0800
TZOFFSETTO:-0700
TZNAME:PDT
DTSTART:20130310T100000
END:DAYLIGHT
BEGIN:STANDARD
TZOFFSETFROM:-0700
TZOFFSETTO:-0800
TZNAME:PST
DTSTART:20131103T090000
END:STANDARD
BEGIN:DAYLIGHT
TZOFFSETFROM:-0800
TZOFFSETTO:-0700
TZNAME:PDT
DTSTART:20140309T100000
END:DAYLIGHT
BEGIN:STANDARD
TZOFFSETFROM:-0700
TZOFFSETTO:-0800
TZNAME:PST
DTSTART:20141102T090000
END:STANDARD
BEGIN:DAYLIGHT
TZOFFSETFROM:-0800
TZOFFSETTO:-0700
TZNAME:PDT
DTSTART:20150308T100000
END:DAYLIGHT
BEGIN:STANDARD
TZOFFSETFROM:-0700
TZOFFSETTO:-0800
TZNAME:PST
DTSTART:20151101T090000
END:STANDARD
BEGIN:DAYLIGHT
TZOFFSETFROM:-0800
TZOFFSETTO:-0700
TZNAME:PDT
DTSTART:20160313T100000
END:DAYLIGHT
BEGIN:STANDARD
TZOFFSETFROM:-0700
TZOFFSETTO:-0800
TZNAME:PST
DTSTART:20161106T090000
END:STANDARD
END:VTIMEZONE
BEGIN:VEVENT
DTSTART;TZID=America/Los_Angeles:20150722T090000
DTEND;TZID=America/Los_Angeles:20150722T110000
DTSTAMP:20260420T001642
CREATED:20240126T053727Z
LAST-MODIFIED:20240126T053727Z
UID:1960-1437555600-1437562800@sjvswqp.org
SUMMARY:SJVSWQP Monthly Meeting - Riverbank
DESCRIPTION:When\n07/22/2015\n\n \n9:00 AM – 11:00 AM\n\nLocation\nCity of Riverbank\n\n\nThis is the monthly San Joaquin Valley Stormwater Quality Partnership Meeting. Please confirm your attendance through registration. \nCity of Riverbank – Conference Room \n6617 Third Street \nRiverbank\, CA 95367 \n(209) 863-7120 \nThe conference room is located in the City Hall South office.
URL:https://sjvswqp.org/event/sjvswqp-monthly-meeting-riverbank/
END:VEVENT
BEGIN:VEVENT
DTSTART;TZID=America/Los_Angeles:20150624T090000
DTEND;TZID=America/Los_Angeles:20150624T110000
DTSTAMP:20260420T001642
CREATED:20240126T053841Z
LAST-MODIFIED:20240126T053841Z
UID:1962-1435136400-1435143600@sjvswqp.org
SUMMARY:SJVSWQP Monthly Meeting - Tracy
DESCRIPTION:When\n06/24/2015\n\n \n9:00 AM – 11:00 AM\n\nLocation\nCity of Tracy – City Hall Conference Room #109 (Downstairs)\n\n\nThis is the monthly meeting for the San Joaquin Valley Stormwater Quality Partnership.  Please confirm your attendance through registration. \nCity of Tracy – City Hall Conference Room # 109 (Downstairs)\n333 Civic Center Plaza\nTracy\, CA 95376 \nConference Call = 857-232-0157 \nConference Code = 495872
URL:https://sjvswqp.org/event/sjvswqp-monthly-meeting-tracy/
END:VEVENT
BEGIN:VEVENT
DTSTART;TZID=America/Los_Angeles:20150611T083000
DTEND;TZID=America/Los_Angeles:20150611T160000
DTSTAMP:20260420T001642
CREATED:20240126T053952Z
LAST-MODIFIED:20240126T053952Z
UID:1964-1434011400-1434038400@sjvswqp.org
SUMMARY:SJVSWQP Municipal Training Workshop
DESCRIPTION:When\n06/11/2015\n\n \n8:30 AM – 4:00 PM\n\nLocation\nCabral Ag Center\, 2101 E. Earhart Ave. Stockton\, CA
URL:https://sjvswqp.org/event/sjvswqp-municipal-training-workshop/
END:VEVENT
BEGIN:VEVENT
DTSTART;TZID=America/Los_Angeles:20150527T090000
DTEND;TZID=America/Los_Angeles:20150527T110000
DTSTAMP:20260420T001642
CREATED:20240126T054042Z
LAST-MODIFIED:20240126T054042Z
UID:1966-1432717200-1432724400@sjvswqp.org
SUMMARY:SJVSWQP Meeting (Turlock - May 25)
DESCRIPTION:When\n05/27/2015\n\n \n9:00 AM – 11:00 AM\n\nLocation\nCity of Turlock\n\n\n  \nMonthly Meeting at City of Turlock\n\n– Date: Wed\, May 27th\, 2015\n– Time: 9:00am – 11:00am\n– Location: City of Turlock – Water Quality Control Facility \n\n– Address:\n901 S. Walnut Road\nTurlock\, CA 95380\n\n\nConference Call: (857) 232-0157\nMeeting ID: TBD
URL:https://sjvswqp.org/event/sjvswqp-meeting-turlock-may-25-2/
END:VEVENT
BEGIN:VEVENT
DTSTART;TZID=America/Los_Angeles:20150521T080000
DTEND;TZID=America/Los_Angeles:20150521T163000
DTSTAMP:20260420T001642
CREATED:20240126T054159Z
LAST-MODIFIED:20240126T054159Z
UID:1968-1432195200-1432225800@sjvswqp.org
SUMMARY:Municipal Training: May 21
DESCRIPTION:When\n05/21/2015\n\n \n8:00 AM – 4:30 PM\n\nLocation\nCity of Ceres Community Cente\n\n\nMunicipal MS4 Phase II Training  \nFLYER & REGISTRATION \nCity of Ceres Community Center2701 4th Street\, Ceres\, CA 95307 \n209-538-5790
URL:https://sjvswqp.org/event/municipal-training-may-21/
END:VEVENT
BEGIN:VEVENT
DTSTART;TZID=America/Los_Angeles:20150422T090000
DTEND;TZID=America/Los_Angeles:20150422T120000
DTSTAMP:20260420T001642
CREATED:20240126T054308Z
LAST-MODIFIED:20240126T054308Z
UID:1970-1429693200-1429704000@sjvswqp.org
SUMMARY:SJVSWQP Monthly Meeting (Lathrop)
DESCRIPTION:When\n04/22/2015\n\n \n9:00 AM – 12:00 PM\n\nLocation\nLathrop\, CA\n\n\nThe City of Lathrop will host the next Partnership meeting.\n\nCity of Lathrop\n390 Towne Center Dr.\nLathrop\, CA 95330\n209-941-7200\n\nConference Call-In: (760) 569-2121 / Access Code: 7208#
URL:https://sjvswqp.org/event/sjvswqp-monthly-meeting-lathrop/
END:VEVENT
BEGIN:VEVENT
DTSTART;TZID=America/Los_Angeles:20150325T090000
DTEND;TZID=America/Los_Angeles:20150325T110000
DTSTAMP:20260420T001642
CREATED:20240126T054430Z
LAST-MODIFIED:20240126T054430Z
UID:1972-1427274000-1427281200@sjvswqp.org
SUMMARY:SJVSWQP Monthly Meeting
DESCRIPTION:When\n03/25/2015\n\n \n9:00 AM – 11:00 AM\n\nLocation\nPatterson\, CA\n\n\nSJVSWQP Monthly Meeting \n\nMarch 25\, 2015 (Wednesday): 9am – 11am\n\nConference Call: (218) 548-7220 / Pass Code: 66766#\n\nCity of Patterson City Hall\n1 Plaza\nPatterson\, CA\n209-895-8064\n\nThe City parking lots are available right behind of US Bank at W. Las Palmas Avenue (just cross the City hall)
URL:https://sjvswqp.org/event/sjvswqp-monthly-meeting-2/
END:VEVENT
BEGIN:VEVENT
DTSTART;TZID=America/Los_Angeles:20150225T090000
DTEND;TZID=America/Los_Angeles:20150225T110000
DTSTAMP:20260420T001642
CREATED:20240126T054528Z
LAST-MODIFIED:20240126T054528Z
UID:1974-1424854800-1424862000@sjvswqp.org
SUMMARY:Partnership Meeting - Feb 2015
DESCRIPTION:When\n02/25/2015\n\n \n9:00 AM – 11:00 AM\n\nLocation\nSan Joaquin County – Conference Room\n\n\nSan Joaquin County\n\n– Date: Wed\, February 25\, 2015\n– Time: 9-11am\n– Location: San Joaquin County Public Works Conference Room\n\n– Address:\n1810 E. Hazelton Avenue\, Stockton\, CA 95201\n\nConference Call:\nDial-in Number(s): 888-431-3632 \nParticipant Code: 1539196
URL:https://sjvswqp.org/event/partnership-meeting-feb-2015/
END:VEVENT
BEGIN:VEVENT
DTSTART;TZID=America/Los_Angeles:20150128T090000
DTEND;TZID=America/Los_Angeles:20150128T103000
DTSTAMP:20260420T001642
CREATED:20240126T054650Z
LAST-MODIFIED:20240126T054650Z
UID:1976-1422435600-1422441000@sjvswqp.org
SUMMARY:SJVSWQP Monthly Meeting
DESCRIPTION:When\n01/28/2015\n\n \n9:00 AM – 10:30 AM\n\nLocation\nNewman\, CA\n\n\nSan Joaquin Valley Stormwater Quality Partnership Meeting. \n\nMeeting Agenda\n\nCity of Newman – City Hall\nJanuary 28\, 2014: 9 – 11am\n(209) 862-4448\n\n938 Fresno Street\nNewman\, CA 95360\n\nMap for the Parking Lot\n\nBrunch will be provided.\nNo conference call for this meeting.
URL:https://sjvswqp.org/event/sjvswqp-monthly-meeting-3/
END:VEVENT
BEGIN:VEVENT
DTSTART;TZID=America/Los_Angeles:20141218T100000
DTEND;TZID=America/Los_Angeles:20141218T120000
DTSTAMP:20260420T001642
CREATED:20240126T054800Z
LAST-MODIFIED:20240126T054800Z
UID:1978-1418896800-1418904000@sjvswqp.org
SUMMARY:SJVSWQP Meeting: Thu\, Dec 18th
DESCRIPTION:When\n12/18/2014\n\n \n10:00 AM – 12:00 PM\n\nLocation\nPort of Stockton\n\n\nStrategic Meeting for 2015 \n\nBrunch will be served! \n\nThursday\, December 18th (10am – Noon)\n\nPort of Stockton\, Portside Room\n2301 W Washington Street\nStockton\, CA 95203\n\nMeeting Room Location (Port of Stockton) \nGoogle Map for Driving
URL:https://sjvswqp.org/event/sjvswqp-meeting-thu-dec-18th/
END:VEVENT
BEGIN:VEVENT
DTSTART;TZID=America/Los_Angeles:20141119T090000
DTEND;TZID=America/Los_Angeles:20141119T110000
DTSTAMP:20260420T001642
CREATED:20240126T054850Z
LAST-MODIFIED:20240126T054850Z
UID:1980-1416387600-1416394800@sjvswqp.org
SUMMARY:SJVSWQP Meeting
DESCRIPTION:When\n11/19/2014\n\n \n9:00 AM – 11:00 AM\n\nLocation\nCity of Ceres\n\n\n  \nThis is the monthly San Joaquin Valley Stormwater Quality Partnership Meeting.  Please confirm your attendance through registration. \nCeres Community Center2701 4th Street\, Ceres\, CA 95307 \nContact: 209-538-5790
URL:https://sjvswqp.org/event/sjvswqp-meeting/
END:VEVENT
BEGIN:VEVENT
DTSTART;TZID=America/Los_Angeles:20141113T090000
DTEND;TZID=America/Los_Angeles:20141113T150000
DTSTAMP:20260420T001642
CREATED:20240126T054936Z
LAST-MODIFIED:20240126T054936Z
UID:1982-1415869200-1415890800@sjvswqp.org
SUMMARY:CASQA Quarterly Meeting
DESCRIPTION:When\n11/13/2014\n\n \n9:00 AM – 3:00 PM\n\nLocation\nHoliday Inn Sacramento – Capital Plaza
URL:https://sjvswqp.org/event/casqa-quarterly-meeting/
END:VEVENT
BEGIN:VEVENT
DTSTART;TZID=America/Los_Angeles:20141022T090000
DTEND;TZID=America/Los_Angeles:20141022T103000
DTSTAMP:20260420T001642
CREATED:20240126T055051Z
LAST-MODIFIED:20240126T055051Z
UID:1984-1413968400-1413973800@sjvswqp.org
SUMMARY:SJVSWQP Meeting - October 2014
DESCRIPTION:When\n10/22/2014\n\n \n9:00 AM – 10:30 AM\n\nLocation\nCity of Turlock – changed from San Joaquin County\n\n\nMonthly Meeting at City of Turlock\n\n– Date: Wed\, October 22\, 2014\n– Time: 9:00am – 10:30am\n– Location: City of Turlock – Water Quality Control Facility \n\n– Address:\n901 S. Walnut Road\nTurlock\, CA 95380\n\n\nConference Call: (857) 232-0157\nMeeting ID: 495872\nAs a reminder – this meeting will be recorded for those unable to attend and for future reference.
URL:https://sjvswqp.org/event/sjvswqp-meeting-october-2014/
END:VEVENT
BEGIN:VEVENT
DTSTART;TZID=America/Los_Angeles:20141009T080000
DTEND;TZID=America/Los_Angeles:20141009T150000
DTSTAMP:20260420T001642
CREATED:20240126T055227Z
LAST-MODIFIED:20240126T055227Z
UID:1986-1412841600-1412866800@sjvswqp.org
SUMMARY:CFCC Funding Fairs-Sacramento
DESCRIPTION:When\n10/09/2014\n\n \n8:00 AM – 3:00 PM\n\nLocation\nCAL EPA Headquarters in Sacramento\n\n\n2014 CFCC Funding Fairs at Cal EPA HQ Sacramento (Free!) \nFLYER \nOctober 9\, 2014 8am – 3pm \nCal EPA Sacramento \n1001 I street (Coastal Hearing Room) \nSacramento\, CA 95814 \nDetails and Registration: \nhttps://www.events.rcac.org/assnfe/ev.asp?MODE=&ID=289 \nFunds info available: \n  \n\nDrinking Water\nWastewater\nWater Quality\nWater Supply\nWater Conservation\nSolid Waste\nEnergy Efficiency\nFlood Management\nStreets and Highways\nEmergency Response Vehicles\nWater Use Efficiency\nCommunity Facilities
URL:https://sjvswqp.org/event/cfcc-funding-fairs-sacramento/
END:VEVENT
BEGIN:VEVENT
DTSTART;TZID=America/Los_Angeles:20140827T090000
DTEND;TZID=America/Los_Angeles:20140827T110000
DTSTAMP:20260420T001642
CREATED:20240126T055317Z
LAST-MODIFIED:20240126T055317Z
UID:1988-1409130000-1409137200@sjvswqp.org
SUMMARY:SJVSWQP Monthly Meeting - August 2014
DESCRIPTION:When\n08/27/2014\n\n \n9:00 AM – 11:00 AM\n\nLocation\nStanislaus County – Development Services\n\n\nMonthly Meeting at Stanislaus County\n\n* Date: Wed\, August 27\, 2014\n* Time: 9am – 11:00am\n* Location: Stanislaus County\n\n*Address:\n1010 10th Street\nModesto\, CA 95334\nBasement Room #B-300: Board of Supervisor’s Chambers\n\nConference Call Dial-in-Number: 712-432-1212\nMeeting ID: 718-314-536\n1. Host: As the host push the * key (PIN: 9235)\n2. Participant: Say Your name then push #
URL:https://sjvswqp.org/event/sjvswqp-monthly-meeting-august-2014/
END:VEVENT
BEGIN:VEVENT
DTSTART;TZID=America/Los_Angeles:20140723T090000
DTEND;TZID=America/Los_Angeles:20140723T103000
DTSTAMP:20260420T001642
CREATED:20240126T055424Z
LAST-MODIFIED:20240126T055424Z
UID:1990-1406106000-1406111400@sjvswqp.org
SUMMARY:SJVSWQP Meeting - July 2014
DESCRIPTION:When\n07/23/2014\n\n \n9:00 AM – 10:30 AM\n\nLocation\nPort of Stockton\n\n\nThis is a special  San Joaquin Valley Stormwater Quality Partnership Meeting in July\, 2014 \n\nPort of Stockton  – Portside Room2303 Port Road F \nMeeting Room Location (Port of Stockton) \nGoogle Map for Driving \n2301 W Washington St Stockton\, CA 95203\nTurn right to Ag Business Center (Road) at this address.\nYou can’t miss the meeting room. 🙂 \n\nConference call information: \n  \nCaller dials:  1(866)537-9661 \n  \nCaller enters pass code: 9290580#
URL:https://sjvswqp.org/event/sjvswqp-meeting-july-2014/
END:VEVENT
BEGIN:VEVENT
DTSTART;TZID=America/Los_Angeles:20140625T090000
DTEND;TZID=America/Los_Angeles:20140625T103000
DTSTAMP:20260420T001642
CREATED:20240126T055536Z
LAST-MODIFIED:20240126T055536Z
UID:1992-1403686800-1403692200@sjvswqp.org
SUMMARY:SJVSWQP Meeting
DESCRIPTION:When\n06/25/2014\n\n \n9:00 AM – 10:30 AM\n\nLocation\nCity of Riverbank\n\n\nThis is the monthly San Joaquin Valley Stormwater Quality Partnership Meeting. Please confirm your attendance through registration. \nCity of Riverbank – Conference Room \n6617 Third Street \nRiverbank\, CA 95367 \n(209) 863-7120 \nThe conference room is located in the City Hall South office.
URL:https://sjvswqp.org/event/sjvswqp-meeting-2/
END:VEVENT
BEGIN:VEVENT
DTSTART;TZID=America/Los_Angeles:20140528T090000
DTEND;TZID=America/Los_Angeles:20140528T110000
DTSTAMP:20260420T001642
CREATED:20240126T055629Z
LAST-MODIFIED:20240126T055629Z
UID:1994-1401267600-1401274800@sjvswqp.org
SUMMARY:SJVSWQP Meeting
DESCRIPTION:When\n05/28/2014\n\n \n9:00 AM – 11:00 AM\n\nLocation\nCity of Lodi\n\n\nThis is the monthly San Joaquin Valley Stormwater Quality Partnership Meeting. Please confirm your attendance through registration. \nCity of Lodi – Carnegie Forum Conference Room305 W. Pine Street\, Lodi\, CA 95240
URL:https://sjvswqp.org/event/sjvswqp-meeting-3/
END:VEVENT
BEGIN:VEVENT
DTSTART;TZID=America/Los_Angeles:20140423T090000
DTEND;TZID=America/Los_Angeles:20140423T103000
DTSTAMP:20260420T001642
CREATED:20240126T060145Z
LAST-MODIFIED:20240126T060145Z
UID:1996-1398243600-1398249000@sjvswqp.org
SUMMARY:SJVSWQP Monthly Meeting
DESCRIPTION:When\n04/23/2014\n\n \n9:00 AM – 10:30 AM\n\nLocation\nNewman\, CA\n\n\n\n\n\n\n\n\n\n\n\n\n\n\n\n\nWhen\n04/23/2014\n\n \n9:00 AM – 10:30 AM\n\nLocation\nNewman\, CA\n\n\n\n\n\n\n\n\n\n\n\n\n\n\n\n\n\n\n\n\n\n\n\n\n\n\nThis is the monthly San Joaquin Valley Stormwater Quality Partnership Meeting.  Please confirm your attendance through registration. \n\nCity of Newman – City Hall\nApril 23\, 2014 9 – 10:30am\n(209) 862-4448\n\n938 Fresno Street\nNewman\, CA 95360\n\nMap for the Parking Lot\n\nBrunch will be provided.
URL:https://sjvswqp.org/event/sjvswqp-monthly-meeting-4/
END:VEVENT
BEGIN:VEVENT
DTSTART;TZID=America/Los_Angeles:20140402T070000
DTEND;TZID=America/Los_Angeles:20140402T190000
DTSTAMP:20260420T001642
CREATED:20240126T060414Z
LAST-MODIFIED:20240126T060414Z
UID:1998-1396422000-1396465200@sjvswqp.org
SUMMARY:STORMWATER SOLUTIONS VIRTUAL EXPO
DESCRIPTION:When\n04/02/2014\n\n \n7:00 AM – 2:00 PM\n\nLocation\nwww.estormwater.com/virtualexpo2014\n\n\nREGISTER NOW FOR THIS UNIQUE LEARNING AND NETWORKING EVENT\n\nBuilding on the success of the 2013 event\, Storm Water Solutions and Stormwater ONE present the 2014 Storm Water Solutions Virtual Expo\, now featuring the NEW Erosion Control Pavilion\, sponsored by the International Erosion Control Association.\n\n2014 Storm Water Solutions Virtual Expo Agenda\n(Exhibit Hours 10:00 a.m. – 5 :00 p.m. Eastern) \n\n7:00 a.m. – 8:00 a.m. Virtual Expo opens undefined networking opportunities; visit with exhibitors; view on-demand webinars. \n\n8:00 a.m. – 9:00 a.m. Morning Keynote including Q&A undefined Off the Pipe: Storm Water Infrastructure That’s Green\, Not Grey\nPresenters: Brian G. Marengo\, P.E.\, Global Technology Leader\, Watershed Services\, CH2M HILL; Andrew Potts\, P.E.\, Senior Technologist\, Watershed Services\, CH2M HILL \n\n9:00 a.m. –  9:30 a.m. Visit Exhibit Halls\n\n9:30 a.m. – 10:30 a.m. Moderated Chat Session: LID/Bioretention\nFacilitator: Steven Trinkaus\, PE\, CPESC\, CPSWQ\, Trinkaus Engineering\, LLC \n\n10:30 a.m. – 11:00 a.m. Visit Exhibit Halls\n\n11:00 a.m. – 12:00 p.m. Afternoon Keynote and Follow-Up Q&A undefined Construction Site Sediment Control: Best\nPractices & Low Impact Solutions\nPresenter: Dr. Andrew Earles\, Vice President of Water Resources\, Wright Water Engineers Inc.\n\n12:00 p.m. – 12:30 p.m. Visit Exhibit Halls\n\n12:30 p.m. – 1:30 p.m. Moderated Chat Session: Post Construction BMPs Facilitator: TBD\n\n1:30 p.m. – 2:00 p.m. Networking opportunities undefined visit with exhibitors; view on-demand webinars.
URL:https://sjvswqp.org/event/stormwater-solutions-virtual-expo/
END:VEVENT
BEGIN:VEVENT
DTSTART;TZID=America/Los_Angeles:20140326T090000
DTEND;TZID=America/Los_Angeles:20140326T103000
DTSTAMP:20260420T001642
CREATED:20240126T060540Z
LAST-MODIFIED:20240126T060540Z
UID:2000-1395824400-1395829800@sjvswqp.org
SUMMARY:SJVSWQP Monthly Meeting
DESCRIPTION:When\n03/26/2014\n\n \n9:00 AM – 10:30 AM\n\nLocation\nLathrop\, CA\n\n\nThis is the monthly San Joaquin Valley Stormwater Quality Partnership Meeting.  Please confirm your attendance through registration. \n\nCity of Lathrop\n390 Towne Center Dr.\nLathrop\, CA 95330\n209-941-7200
URL:https://sjvswqp.org/event/sjvswqp-monthly-meeting-5/
END:VEVENT
BEGIN:VEVENT
DTSTART;TZID=America/Los_Angeles:20140226T090000
DTEND;TZID=America/Los_Angeles:20140226T103000
DTSTAMP:20260420T001642
CREATED:20240126T060637Z
LAST-MODIFIED:20240126T060637Z
UID:2002-1393405200-1393410600@sjvswqp.org
SUMMARY:SJVSWQP Monthly Meeting
DESCRIPTION:When\n02/26/2014\n\n \n9:00 AM – 10:30 AM\n\nLocation\nPatterson\, CA\n\n\nThis is the monthly San Joaquin Valley Stormwater Quality Partnership Meeting.  Please confirm your attendance through registration. \n\nCity of Patterson\n1 Plaza\nPatterson\, CA\n209-895-8064\n\nFebruary 26\, 2014 (Wednesday)\n9am – 10:30am
URL:https://sjvswqp.org/event/sjvswqp-monthly-meeting-6/
END:VEVENT
BEGIN:VEVENT
DTSTART;TZID=America/Los_Angeles:20140122T090000
DTEND;TZID=America/Los_Angeles:20140122T103000
DTSTAMP:20260420T001642
CREATED:20240126T060727Z
LAST-MODIFIED:20240126T060727Z
UID:2004-1390381200-1390386600@sjvswqp.org
SUMMARY:January 2014 SJVSWQP Meeting
DESCRIPTION:When\n01/22/2014\n\n \n9:00 AM – 10:30 AM\n\nLocation\nCity of Ripon – Conference Room\n\n\nThis is the monthly San Joaquin Valley Stormwater Quality Partnership Meeting.  Please confirm your attendance through registration. \n\nCity of Ripon – Conference Room\n259 N. Wilma Avenue\nRipon\, CA 95366
URL:https://sjvswqp.org/event/january-2014-sjvswqp-meeting/
END:VEVENT
BEGIN:VEVENT
DTSTART;TZID=America/Los_Angeles:20140120T073000
DTEND;TZID=America/Los_Angeles:20140120T193000
DTSTAMP:20260420T001642
CREATED:20240126T060856Z
LAST-MODIFIED:20240126T060856Z
UID:2006-1390203000-1390246200@sjvswqp.org
SUMMARY:Marine Institute - Field Study
DESCRIPTION:When\n01/20/2014\n\n \n7:30 AM – 7:30 PM\n\nLocation\nLodi\, CA\n\n\nThis is a special event that may be attended by participating members and their children or grandchildren.  City of Lodi secures a grant which enables the Storm Drain Detectives (Lodi HIgh School students who monitor for City of Lodi on the Mokelumne River) to get out on the Delta for a day aboard the Marine Institutes Ship.  This day is filled with Activities both on the water and off.\n\nThe day begins in Lodi where you board the bus headed for Lodi Lake.  You then moves to East Bay Regional Park @ Oakley\, Ca for a visual tour of the Delta.  The bus then arrives in Antioch where you board the ship for an afternoon of scientific discovery.  Enjoy working with your hands through 4 stations including learning what creatures live in the sediment under the delta\, what types of fish live in the Delta and monitor the water quality.  This is a free event.\n\nContact Kathy Grant ( kathygrant@sbcglobal.net ) – for further information
URL:https://sjvswqp.org/event/marine-institute-field-study/
END:VEVENT
BEGIN:VEVENT
DTSTART;TZID=America/Los_Angeles:20140117T130000
DTEND;TZID=America/Los_Angeles:20140117T160000
DTSTAMP:20260420T001642
CREATED:20240126T061008Z
LAST-MODIFIED:20240126T061008Z
UID:2008-1389963600-1389974400@sjvswqp.org
SUMMARY:Central Valley Permit Discussion
DESCRIPTION:When\n01/17/2014\n\n \n1:00 PM – 4:00 PM\n\nLocation\nRancho Cordova\n\n\nCentral Valley MS4 Region-wide Permit Discussion\n\nJanuary 14\, 2014 (Friday)\n1:00 – 3:00pm or 2:00 – 4:00pm (TBD)\n\n11020 Sun Center Drive\, Suite 200\nRancho Cordova\, CA 95670\n\nRegistration!\nhttp://doodle.com/gskiviivnr48ktk9?
URL:https://sjvswqp.org/event/central-valley-permit-discussion/
END:VEVENT
BEGIN:VEVENT
DTSTART;TZID=America/Los_Angeles:20131218T143000
DTEND;TZID=America/Los_Angeles:20131218T160000
DTSTAMP:20260420T001642
CREATED:20240126T061116Z
LAST-MODIFIED:20240126T061116Z
UID:2011-1387377000-1387382400@sjvswqp.org
SUMMARY:CASQA Phase II Teleconference
DESCRIPTION:When\n12/18/2013\n\n \n2:30 PM – 4:00 PM\n\nLocation\nsee description for call-in information\n\n\nGreetings everyone\, \nThanks for your input on the agenda.  I’ve added a few items.  A number of folks had questions/comments about Section E.10 so we’ll dedicate most of the meeting to that topic.  Ali will send out the SMARTS templates tomorrow before the meeting. \nCall in number is 800-786-1922 \nCode: 87779856# \nAgenda: \n\n1.      Additions/changes to the agenda\n2.      Ali Dunn\, State Water Board\,\n\n·         Presentation of Draft Annual Report Templates in SMARTS \n·         Annual Report deadlines and coordination with Regional Waterboards \n·         Outcome of SWRCB meetings on TMDLs (Central Valley and others) \n3.      Permit Section E.10.a and E.10.b \n·         Open Discussion on implementation \n4. Update from CASQA Strategic Planning Meeting\, Nov. 13th \n5.   Focus and direction of Phase II committee
URL:https://sjvswqp.org/event/casqa-phase-ii-teleconference/
END:VEVENT
BEGIN:VEVENT
DTSTART;TZID=America/Los_Angeles:20131217T090000
DTEND;TZID=America/Los_Angeles:20131217T110000
DTSTAMP:20260420T001642
CREATED:20240126T061217Z
LAST-MODIFIED:20240126T061217Z
UID:2013-1387270800-1387278000@sjvswqp.org
SUMMARY:SJVSWQP Meeting - December
DESCRIPTION:When\n12/17/2013\n\n \n9:00 AM – 11:00 AM\n\nLocation\nPort of Stockton\n\n\nThis is a special  San Joaquin Valley Stormwater Quality Partnership Meeting in December. \n\nPort of Stockton  – Portside Room2303 Port Road F \nMeeting Room Location (Port of Stockton) \nGoogle Map for Driving \n2301 W Washington St Stockton\, CA 95203\nTurn right to Ag Business Center (Road) at this address.\nYou can’t miss the meeting room. 🙂 \n\n\n – Port of Stockton will provide Coffee and Brunch for all!\n\n – A brief presentation for SJVSWQP Vision 2014.\n\n – A brief update on the stormwater permit\n\n – Networking.\n\n – Meeting Santa!
URL:https://sjvswqp.org/event/sjvswqp-meeting-december/
END:VEVENT
BEGIN:VEVENT
DTSTART;TZID=America/Los_Angeles:20131121T103000
DTEND;TZID=America/Los_Angeles:20131121T140000
DTSTAMP:20260420T001642
CREATED:20240126T061315Z
LAST-MODIFIED:20240126T061315Z
UID:2015-1385029800-1385042400@sjvswqp.org
SUMMARY:State Board - TMDL Meeting 3 (Delta Pesticides)
DESCRIPTION:When\n11/21/2013\n\n \n10:30 AM – 2:00 PM\n\nLocation\nCalEPA at Sacramento\n\n\nPhase II MS4 – TMDL Meeting #3 for Delta Pesticides and Methylmercury \n\nNovember 21st (Thursday): 10:30am – 2pm\n\nCalEPA Headquater Meeting:\nhttp://www.calepa.ca.gov/EPAbldg/location.htm\n\n1001 I Street\, Sacramento\, CA 95814\nA public parking structure is available across the street.\n\nWebcast will be available.
URL:https://sjvswqp.org/event/state-board-tmdl-meeting-3-delta-pesticides/
END:VEVENT
BEGIN:VEVENT
DTSTART;TZID=America/Los_Angeles:20131120T090000
DTEND;TZID=America/Los_Angeles:20131120T110000
DTSTAMP:20260420T001642
CREATED:20240126T061402Z
LAST-MODIFIED:20240126T061402Z
UID:2017-1384938000-1384945200@sjvswqp.org
SUMMARY:SJVSWQP Meeting in November
DESCRIPTION:When\n11/20/2013\n\n \n9:00 AM – 11:00 AM\n\nLocation\nCity of Tracy – City Hall Conference Room #203 (Upstairs)\n\n\nThis is the monthly San Joaquin Valley Stormwater Quality Partnership Meeting.  Please confirm your attendance through registration. \n\nCity of Tracy – City Hall Conference Room # 203 (Upstairs)\n333 Civic Center Plaza\nTracy\, CA 95376
URL:https://sjvswqp.org/event/sjvswqp-meeting-in-november/
END:VEVENT
BEGIN:VEVENT
DTSTART;TZID=America/Los_Angeles:20131118T110000
DTEND;TZID=America/Los_Angeles:20131118T150000
DTSTAMP:20260420T001642
CREATED:20240126T061500Z
LAST-MODIFIED:20240126T061500Z
UID:2019-1384772400-1384786800@sjvswqp.org
SUMMARY:State Board - TMDL Meeting 2 (Sac River TMDLs)
DESCRIPTION:When\n11/18/2013\n\n \n11:00 AM – 3:00 PM\n\nLocation\nCalEPA at Sacramento\n\n\nPhase II MS4 – TMDL Meeting #2 for Sacramento River Watershed Pesticides\, Clear Lake Nutirients \n\nNovember 18th (Monday): 11am – 3pm\n\nCalEPA Headquater Meeting:\nhttp://www.calepa.ca.gov/EPAbldg/location.htm\n\n1001 I Street\, Sacramento\, CA 95814\nA public parking structure is available across the street.\n\nWebcast will be available.
URL:https://sjvswqp.org/event/state-board-tmdl-meeting-2-sac-river-tmdls/
END:VEVENT
END:VCALENDAR