BEGIN:VCALENDAR
VERSION:2.0
PRODID:-//San Joaquin Valley Stormwater Quality Partnership - ECPv6.15.20//NONSGML v1.0//EN
CALSCALE:GREGORIAN
METHOD:PUBLISH
X-ORIGINAL-URL:https://sjvswqp.org
X-WR-CALDESC:Events for San Joaquin Valley Stormwater Quality Partnership
REFRESH-INTERVAL;VALUE=DURATION:PT1H
X-Robots-Tag:noindex
X-PUBLISHED-TTL:PT1H
BEGIN:VTIMEZONE
TZID:America/Los_Angeles
BEGIN:DAYLIGHT
TZOFFSETFROM:-0800
TZOFFSETTO:-0700
TZNAME:PDT
DTSTART:20190310T100000
END:DAYLIGHT
BEGIN:STANDARD
TZOFFSETFROM:-0700
TZOFFSETTO:-0800
TZNAME:PST
DTSTART:20191103T090000
END:STANDARD
BEGIN:DAYLIGHT
TZOFFSETFROM:-0800
TZOFFSETTO:-0700
TZNAME:PDT
DTSTART:20200308T100000
END:DAYLIGHT
BEGIN:STANDARD
TZOFFSETFROM:-0700
TZOFFSETTO:-0800
TZNAME:PST
DTSTART:20201101T090000
END:STANDARD
BEGIN:DAYLIGHT
TZOFFSETFROM:-0800
TZOFFSETTO:-0700
TZNAME:PDT
DTSTART:20210314T100000
END:DAYLIGHT
BEGIN:STANDARD
TZOFFSETFROM:-0700
TZOFFSETTO:-0800
TZNAME:PST
DTSTART:20211107T090000
END:STANDARD
END:VTIMEZONE
BEGIN:VEVENT
DTSTART;TZID=America/Los_Angeles:20200923T090000
DTEND;TZID=America/Los_Angeles:20200923T110000
DTSTAMP:20260424T064753
CREATED:20240126T034030Z
LAST-MODIFIED:20240126T034030Z
UID:1822-1600851600-1600858800@sjvswqp.org
SUMMARY:SJVSWQP September 23\, 2020 Meeting - Teleconference
DESCRIPTION:When\n09/23/2020\n\n \n9:00 AM – 11:00 AM\n\nLocation\nTeleconference\n\n\nThis is the monthly San Joaquin Valley Stormwater Quality Partnership Meeting hosted by the City of Tracy.  Please confirm your attendance through registration. This month will be a Teleconference only meeting to discuss the future meetings for the Partnership. \n\nJoin Microsoft Teams Meeting \n+1 209-425-4338   United States\, Stockton (Toll) \nConference ID: 239 511 665# \nThis meetings agenda will be an open platform to talk about any updates or current legislation regarding the Stormwater community.
URL:https://sjvswqp.org/event/sjvswqp-september-23-2020-meeting-teleconference/
END:VEVENT
END:VCALENDAR