BEGIN:VCALENDAR
VERSION:2.0
PRODID:-//San Joaquin Valley Stormwater Quality Partnership - ECPv6.15.20//NONSGML v1.0//EN
CALSCALE:GREGORIAN
METHOD:PUBLISH
X-WR-CALNAME:San Joaquin Valley Stormwater Quality Partnership
X-ORIGINAL-URL:https://sjvswqp.org
X-WR-CALDESC:Events for San Joaquin Valley Stormwater Quality Partnership
REFRESH-INTERVAL;VALUE=DURATION:PT1H
X-Robots-Tag:noindex
X-PUBLISHED-TTL:PT1H
BEGIN:VTIMEZONE
TZID:America/Los_Angeles
BEGIN:DAYLIGHT
TZOFFSETFROM:-0800
TZOFFSETTO:-0700
TZNAME:PDT
DTSTART:20230312T100000
END:DAYLIGHT
BEGIN:STANDARD
TZOFFSETFROM:-0700
TZOFFSETTO:-0800
TZNAME:PST
DTSTART:20231105T090000
END:STANDARD
BEGIN:DAYLIGHT
TZOFFSETFROM:-0800
TZOFFSETTO:-0700
TZNAME:PDT
DTSTART:20240310T100000
END:DAYLIGHT
BEGIN:STANDARD
TZOFFSETFROM:-0700
TZOFFSETTO:-0800
TZNAME:PST
DTSTART:20241103T090000
END:STANDARD
BEGIN:DAYLIGHT
TZOFFSETFROM:-0800
TZOFFSETTO:-0700
TZNAME:PDT
DTSTART:20250309T100000
END:DAYLIGHT
BEGIN:STANDARD
TZOFFSETFROM:-0700
TZOFFSETTO:-0800
TZNAME:PST
DTSTART:20251102T090000
END:STANDARD
END:VTIMEZONE
BEGIN:VEVENT
DTSTART;TZID=America/Los_Angeles:20241113T090000
DTEND;TZID=America/Los_Angeles:20241113T100000
DTSTAMP:20260419T214232
CREATED:20241112T142211Z
LAST-MODIFIED:20241112T142211Z
UID:2617-1731488400-1731492000@sjvswqp.org
SUMMARY:November meeting
DESCRIPTION:City of Ceres will be hosting this months Partnership meeting in person and virtual. \nMeeting link soon to follow. \nCeres Community Center located at 2701 4th St\, Ceres\, CA 95307 \nSJVSWQP Meeting Agenda November 13 2024 \nSJVSWQP Meeting Minutes October 16 2024- Tracy
URL:https://sjvswqp.org/event/november-meeting/
LOCATION:City of Ceres\, 2701 4th street\, Ceres\, CA\, 95307\, United States
ORGANIZER;CN="City of Ceres":MAILTO:Dylan.Palecek@ci.ceres.ca.us
END:VEVENT
END:VCALENDAR